BEGIN_USGS_DOQ_HEADER *
QUADRANGLE_NAME "RABBIT PEAK" *
QUADRANT NW *
NORTH_LATITUDE 33 30 00.000 *
WEST_LONGITUDE -116 15 00.000 *
SOUTH_LATITUDE 33 26 15.000 *
EAST_LONGITUDE -116 11 15.000 *
PRODUCTION_DATE 1998 03 25 *
RASTER_ORDER LEFT_RIGHT/TOP_BOTTOM *
BAND_ORGANIZATION BIP *
BAND_CONTENT RED *
BAND_CONTENT GREEN *
BAND_CONTENT BLUE *
BITS_PER_PIXEL 8 *
SAMPLES_AND_LINES 6570 7620 *
HORIZONTAL_DATUM NAD83 *
HORIZONTAL_COORDINATE_SYSTEM UTM *
COORDINATE_ZONE 11 *
HORIZONTAL_UNITS METERS *
HORIZONTAL_RESOLUTION 1.000 *
SECONDARY_HORIZONTAL_DATUM NAD27 *
XY_ORIGIN 569280.000 3707340.000 *
SECONDARY_XY_ORIGIN 569359.747 3707144.519 *
NATION US *
STATE CA *
NW_QUAD_CORNER_XY 569664.815 3706970.888 *
NE_QUAD_CORNER_XY 575470.363 3707014.582 *
SE_QUAD_CORNER_XY 575524.559 3700085.028 *
SW_QUAD_CORNER_XY 569714.841 3700041.374 *
SECONDARY_NW_QUAD_XY 569666.363 3706778.074 *
SECONDARY_NE_QUAD_XY 575472.040 3706821.770 *
SECONDARY_SE_QUAD_XY 575526.235 3699892.423 *
SECONDARY_SW_QUAD_XY 569716.387 3699848.769 *
RMSE_XY 2.363 *
IMAGE_SOURCE "CIR FILM" *
SOURCE_IMAGE_ID "NAPP 9571 42" *
SOURCE_IMAGE_DATE 1996 09 26 *
SOURCE_IMAGE_ID "NAPP 9571 43" *
SOURCE_IMAGE_DATE 1996 09 26 *
SOURCE_IMAGE_ID "NAPP 9571 41" *
SOURCE_IMAGE_DATE 1996 09 26 *
SOURCE_DEM_DATE 1959 01 01 *
AGENCY "WESTERN MAPPING CENTER (WMC)" *
PRODUCER "ANALYTICAL SURVEYS INC." *
PRODUCTION_SYSTEM "ORBIT OR_RECTIFY V.5.2" *
STANDARD_VERSION 1996 12 *
METADATA_DATE 1998 03 26 *
DATA_FILE_SIZE 150209910 *
BYTE_COUNT 19710 * * * * * * * * * * * * * * * * * * * * * * * * * * * * * * * * * * * * * * * * * * * * * * * * * * * * * * * * * * * * * * * * * * * * * * * * * * * * * * * * * * * * * * * * * * * * * * * * * * * * * * * * * * * * * * * * * * * * * * * * * * * * * * * * * * * * * * * * * * * * * * * * * * * * * * * * * * * * * * * * * * * * * * * * * * * * * * * * * * * * * * * * * * * * * * * * * * * * * *
END_USGS_HEADER *
