BEGIN_USGS_DOQ_HEADER *
QUADRANGLE_NAME "CLARK LAKE NE" *
QUADRANT SW *
NORTH_LATITUDE 33 26 15.000 *
WEST_LONGITUDE -116 22 30.000 *
SOUTH_LATITUDE 33 22 30.000 *
EAST_LONGITUDE -116 18 45.000 *
PRODUCTION_DATE 1998 03 24 *
RASTER_ORDER LEFT_RIGHT/TOP_BOTTOM *
BAND_ORGANIZATION BIP *
BAND_CONTENT RED *
BAND_CONTENT GREEN *
BAND_CONTENT BLUE *
BITS_PER_PIXEL 8 *
SAMPLES_AND_LINES 6570 7590 *
HORIZONTAL_DATUM NAD83 *
HORIZONTAL_COORDINATE_SYSTEM UTM *
COORDINATE_ZONE 11 *
HORIZONTAL_UNITS METERS *
HORIZONTAL_RESOLUTION 1.000 *
SECONDARY_HORIZONTAL_DATUM NAD27 *
XY_ORIGIN 557700.000 3700320.000 *
SECONDARY_XY_ORIGIN 557779.890 3700124.333 *
NATION US *
STATE CA *
NW_QUAD_CORNER_XY 558095.500 3699964.545 *
NE_QUAD_CORNER_XY 563905.156 3700001.213 *
SE_QUAD_CORNER_XY 563950.936 3693071.806 *
SW_QUAD_CORNER_XY 558137.118 3693035.172 *
SECONDARY_NW_QUAD_XY 558096.789 3699771.938 *
SECONDARY_NE_QUAD_XY 563906.573 3699808.607 *
SECONDARY_SE_QUAD_XY 563952.352 3692879.408 *
SECONDARY_SW_QUAD_XY 558138.406 3692842.773 *
RMSE_XY 1.964 *
IMAGE_SOURCE "CIR FILM" *
SOURCE_IMAGE_ID "NAPP 9571 189" *
SOURCE_IMAGE_DATE 1996 09 26 *
SOURCE_DEM_DATE 1997 01 01 *
AGENCY "WESTERN MAPPING CENTER (WMC)" *
PRODUCER "ANALYTICAL SURVEYS INC." *
PRODUCTION_SYSTEM "ORBIT OR_RECTIFY V.5.2" *
STANDARD_VERSION 1996 12 *
METADATA_DATE 1998 03 24 *
DATA_FILE_SIZE 149618610 *
BYTE_COUNT 19710 * * * * * * * * * * * * * * * * * * * * * * * * * * * * * * * * * * * * * * * * * * * * * * * * * * * * * * * * * * * * * * * * * * * * * * * * * * * * * * * * * * * * * * * * * * * * * * * * * * * * * * * * * * * * * * * * * * * * * * * * * * * * * * * * * * * * * * * * * * * * * * * * * * * * * * * * * * * * * * * * * * * * * * * * * * * * * * * * * * * * * * * * * * * * * * * * * * * * * * * * * *
END_USGS_HEADER *
