BEGIN_USGS_DOQ_HEADER *
QUADRANGLE_NAME "COLLINS VALLEY" *
QUADRANT SE *
NORTH_LATITUDE 33 26 15.000 *
WEST_LONGITUDE -116 26 15.000 *
SOUTH_LATITUDE 33 22 30.000 *
EAST_LONGITUDE -116 22 30.000 *
PRODUCTION_DATE 1998 03 23 *
RASTER_ORDER LEFT_RIGHT/TOP_BOTTOM *
BAND_ORGANIZATION BIP *
BAND_CONTENT RED *
BAND_CONTENT GREEN *
BAND_CONTENT BLUE *
BITS_PER_PIXEL 8 *
SAMPLES_AND_LINES 6570 7590 *
HORIZONTAL_DATUM NAD83 *
HORIZONTAL_COORDINATE_SYSTEM UTM *
COORDINATE_ZONE 11 *
HORIZONTAL_UNITS METERS *
HORIZONTAL_RESOLUTION 1.000 *
SECONDARY_HORIZONTAL_DATUM NAD27 *
XY_ORIGIN 551880.000 3700290.000 *
SECONDARY_XY_ORIGIN 551959.938 3700094.273 *
NATION US *
STATE CA *
NW_QUAD_CORNER_XY 552285.872 3699931.370 *
NE_QUAD_CORNER_XY 558095.500 3699964.545 *
SE_QUAD_CORNER_XY 558137.118 3693035.172 *
SW_QUAD_CORNER_XY 552323.328 3693002.028 *
SECONDARY_NW_QUAD_XY 552287.032 3699738.761 *
SECONDARY_NE_QUAD_XY 558096.789 3699771.938 *
SECONDARY_SE_QUAD_XY 558138.406 3692842.773 *
SECONDARY_SW_QUAD_XY 552324.487 3692809.628 *
RMSE_XY 2.295 *
IMAGE_SOURCE "CIR FILM" *
SOURCE_IMAGE_ID "NAPP 9552 191" *
SOURCE_IMAGE_DATE 1996 06 04 *
SOURCE_IMAGE_ID "NAPP 9553 38" *
SOURCE_IMAGE_DATE 1996 06 04 *
SOURCE_DEM_DATE 1997 01 01 *
AGENCY "WESTERN MAPPING CENTER (WMC)" *
PRODUCER "ANALYTICAL SURVEYS INC." *
PRODUCTION_SYSTEM "ORBIT OR_RECTIFY V.5.2" *
STANDARD_VERSION 1996 12 *
METADATA_DATE 1998 03 23 *
DATA_FILE_SIZE 149618610 *
BYTE_COUNT 19710 * * * * * * * * * * * * * * * * * * * * * * * * * * * * * * * * * * * * * * * * * * * * * * * * * * * * * * * * * * * * * * * * * * * * * * * * * * * * * * * * * * * * * * * * * * * * * * * * * * * * * * * * * * * * * * * * * * * * * * * * * * * * * * * * * * * * * * * * * * * * * * * * * * * * * * * * * * * * * * * * * * * * * * * * * * * * * * * * * * * * * * * * * * * * * * * * * * * * * * * *
END_USGS_HEADER *
