BEGIN_USGS_DOQ_HEADER *
QUADRANGLE_NAME "BUCKSNORT MOUNTAIN" *
QUADRANT NE *
NORTH_LATITUDE 33 30 00.000 *
WEST_LONGITUDE -116 33 45.000 *
SOUTH_LATITUDE 33 26 15.000 *
EAST_LONGITUDE -116 30 00.000 *
PRODUCTION_DATE 1998 03 19 *
RASTER_ORDER LEFT_RIGHT/TOP_BOTTOM *
BAND_ORGANIZATION BIP *
BAND_CONTENT RED *
BAND_CONTENT GREEN *
BAND_CONTENT BLUE *
BITS_PER_PIXEL 8 *
SAMPLES_AND_LINES 6540 7590 *
HORIZONTAL_DATUM NAD83 *
HORIZONTAL_COORDINATE_SYSTEM UTM *
COORDINATE_ZONE 11 *
HORIZONTAL_UNITS METERS *
HORIZONTAL_RESOLUTION 1.000 *
SECONDARY_HORIZONTAL_DATUM NAD27 *
XY_ORIGIN 540240.000 3707160.000 *
SECONDARY_XY_ORIGIN 540319.892 3706964.183 *
NATION US *
STATE CA *
NW_QUAD_CORNER_XY 540637.507 3706804.855 *
NE_QUAD_CORNER_XY 546442.920 3706831.070 *
SE_QUAD_CORNER_XY 546476.269 3699901.687 *
SW_QUAD_CORNER_XY 540666.687 3699875.496 *
SECONDARY_NW_QUAD_XY 540638.410 3706612.038 *
SECONDARY_NE_QUAD_XY 546443.951 3706638.253 *
SECONDARY_SE_QUAD_XY 546477.300 3699709.078 *
SECONDARY_SW_QUAD_XY 540667.589 3699682.887 *
RMSE_XY 2.649 *
IMAGE_SOURCE "CIR FILM" *
SOURCE_IMAGE_ID "NAPP 9553 88" *
SOURCE_IMAGE_DATE 1996 06 04 *
SOURCE_DEM_DATE 1975 01 01 *
AGENCY "WESTERN MAPPING CENTER (WMC)" *
PRODUCER "ANALYTICAL SURVEYS INC." *
PRODUCTION_SYSTEM "ORBIT OR_RECTIFY V.5.2" *
STANDARD_VERSION 1996 12 *
METADATA_DATE 1998 03 21 *
DATA_FILE_SIZE 148935420 *
BYTE_COUNT 19620 * * * * * * * * * * * * * * * * * * * * * * * * * * * * * * * * * * * * * * * * * * * * * * * * * * * * * * * * * * * * * * * * * * * * * * * * * * * * * * * * * * * * * * * * * * * * * * * * * * * * * * * * * * * * * * * * * * * * * * * * * * * * * * * * * * * * * * * * * * * * * * * * * * * * * * * * * * * * * * * * * * * * * * * * * * * * * * * * * * * * * * * * * * * * * * * * * * * * * * * * *
END_USGS_HEADER *
