BEGIN_USGS_DOQ_HEADER *
QUADRANGLE_NAME "BUCKSNORT MOUNTAIN" *
QUADRANT SW *
NORTH_LATITUDE 33 26 15.000 *
WEST_LONGITUDE -116 37 30.000 *
SOUTH_LATITUDE 33 22 30.000 *
EAST_LONGITUDE -116 33 45.000 *
PRODUCTION_DATE 1998 03 19 *
RASTER_ORDER LEFT_RIGHT/TOP_BOTTOM *
BAND_ORGANIZATION BIP *
BAND_CONTENT RED *
BAND_CONTENT GREEN *
BAND_CONTENT BLUE *
BITS_PER_PIXEL 8 *
SAMPLES_AND_LINES 6570 7590 *
HORIZONTAL_DATUM NAD83 *
HORIZONTAL_COORDINATE_SYSTEM UTM *
COORDINATE_ZONE 11 *
HORIZONTAL_UNITS METERS *
HORIZONTAL_RESOLUTION 1.000 *
SECONDARY_HORIZONTAL_DATUM NAD27 *
XY_ORIGIN 534450.000 3700200.000 *
SECONDARY_XY_ORIGIN 534529.953 3700004.106 *
NATION US *
STATE CA *
NW_QUAD_CORNER_XY 534857.125 3699852.798 *
NE_QUAD_CORNER_XY 540666.687 3699875.496 *
SE_QUAD_CORNER_XY 540695.819 3692946.207 *
SW_QUAD_CORNER_XY 534882.095 3692923.530 *
SECONDARY_NW_QUAD_XY 534857.898 3699660.188 *
SECONDARY_NE_QUAD_XY 540667.589 3699682.887 *
SECONDARY_SE_QUAD_XY 540696.720 3692753.806 *
SECONDARY_SW_QUAD_XY 534882.867 3692731.128 *
RMSE_XY 2.646 *
IMAGE_SOURCE "CIR FILM" *
SOURCE_IMAGE_ID "NAPP 9553 146" *
SOURCE_IMAGE_DATE 1996 06 04 *
SOURCE_DEM_DATE 1975 01 01 *
AGENCY "WESTERN MAPPING CENTER (WMC)" *
PRODUCER "ANALYTICAL SURVEYS INC." *
PRODUCTION_SYSTEM "ORBIT OR_RECTIFY V.5.2" *
STANDARD_VERSION 1996 12 *
METADATA_DATE 1998 03 21 *
DATA_FILE_SIZE 149618610 *
BYTE_COUNT 19710 * * * * * * * * * * * * * * * * * * * * * * * * * * * * * * * * * * * * * * * * * * * * * * * * * * * * * * * * * * * * * * * * * * * * * * * * * * * * * * * * * * * * * * * * * * * * * * * * * * * * * * * * * * * * * * * * * * * * * * * * * * * * * * * * * * * * * * * * * * * * * * * * * * * * * * * * * * * * * * * * * * * * * * * * * * * * * * * * * * * * * * * * * * * * * * * * * * * * * * * * * *
END_USGS_HEADER *
