BEGIN_USGS_DOQ_HEADER *
QUADRANGLE_NAME "BEAUTY MOUNTAIN" *
QUADRANT NE *
NORTH_LATITUDE 33 30 00.000 *
WEST_LONGITUDE -116 41 15.000 *
SOUTH_LATITUDE 33 26 15.000 *
EAST_LONGITUDE -116 37 30.000 *
PRODUCTION_DATE 1998 03 18 *
RASTER_ORDER LEFT_RIGHT/TOP_BOTTOM *
BAND_ORGANIZATION BIP *
BAND_CONTENT RED *
BAND_CONTENT GREEN *
BAND_CONTENT BLUE *
BITS_PER_PIXEL 8 *
SAMPLES_AND_LINES 6540 7590 *
HORIZONTAL_DATUM NAD83 *
HORIZONTAL_COORDINATE_SYSTEM UTM *
COORDINATE_ZONE 11 *
HORIZONTAL_UNITS METERS *
HORIZONTAL_RESOLUTION 1.000 *
SECONDARY_HORIZONTAL_DATUM NAD27 *
XY_ORIGIN 528630.000 3707100.000 *
SECONDARY_XY_ORIGIN 528709.858 3706904.081 *
NATION US *
STATE CA *
NW_QUAD_CORNER_XY 529026.736 3706762.911 *
NE_QUAD_CORNER_XY 534832.113 3706782.135 *
SE_QUAD_CORNER_XY 534857.125 3699852.798 *
SW_QUAD_CORNER_XY 529047.579 3699833.591 *
SECONDARY_NW_QUAD_XY 529027.381 3706570.093 *
SECONDARY_NE_QUAD_XY 534832.887 3706589.318 *
SECONDARY_SE_QUAD_XY 534857.898 3699660.188 *
SECONDARY_SW_QUAD_XY 529048.223 3699640.981 *
RMSE_XY 3.406 *
IMAGE_SOURCE "CIR FILM" *
SOURCE_IMAGE_ID "NAPP 9553 184" *
SOURCE_IMAGE_DATE 1996 06 04 *
SOURCE_IMAGE_ID "NAPP 9554 39" *
SOURCE_IMAGE_DATE 1996 06 04 *
SOURCE_DEM_DATE 1997 01 01 *
AGENCY "WESTERN MAPPING CENTER (WMC)" *
PRODUCER "ANALYTICAL SURVEYS INC." *
PRODUCTION_SYSTEM "ORBIT OR_RECTIFY V.5.2" *
STANDARD_VERSION 1996 12 *
METADATA_DATE 1998 03 18 *
DATA_FILE_SIZE 148935420 *
BYTE_COUNT 19620 * * * * * * * * * * * * * * * * * * * * * * * * * * * * * * * * * * * * * * * * * * * * * * * * * * * * * * * * * * * * * * * * * * * * * * * * * * * * * * * * * * * * * * * * * * * * * * * * * * * * * * * * * * * * * * * * * * * * * * * * * * * * * * * * * * * * * * * * * * * * * * * * * * * * * * * * * * * * * * * * * * * * * * * * * * * * * * * * * * * * * * * * * * * * * * * * * * * * * * *
END_USGS_HEADER *
