BEGIN_USGS_DOQ_HEADER *
QUADRANGLE_NAME "AGUANGA" *
QUADRANT NW *
NORTH_LATITUDE 33 30 00.000 *
WEST_LONGITUDE -116 52 30.000 *
SOUTH_LATITUDE 33 26 15.000 *
EAST_LONGITUDE -116 48 45.000 *
PRODUCTION_DATE 1998 03 16 *
RASTER_ORDER LEFT_RIGHT/TOP_BOTTOM *
BAND_ORGANIZATION BIP *
BAND_CONTENT RED *
BAND_CONTENT GREEN *
BAND_CONTENT BLUE *
BITS_PER_PIXEL 8 *
SAMPLES_AND_LINES 6510 7560 *
HORIZONTAL_DATUM NAD83 *
HORIZONTAL_COORDINATE_SYSTEM UTM *
COORDINATE_ZONE 11 *
HORIZONTAL_UNITS METERS *
HORIZONTAL_RESOLUTION 1.000 *
SECONDARY_HORIZONTAL_DATUM NAD27 *
XY_ORIGIN 511230.000 3707040.000 *
SECONDARY_XY_ORIGIN 511309.819 3706843.965 *
NATION US *
STATE CA *
NW_QUAD_CORNER_XY 511610.675 3706726.211 *
NE_QUAD_CORNER_XY 517416.020 3706734.949 *
SE_QUAD_CORNER_XY 517428.525 3699805.655 *
SW_QUAD_CORNER_XY 511619.012 3699796.925 *
SECONDARY_NW_QUAD_XY 511610.933 3706533.392 *
SECONDARY_NE_QUAD_XY 517416.407 3706542.131 *
SECONDARY_SE_QUAD_XY 517428.912 3699613.044 *
SECONDARY_SW_QUAD_XY 511619.270 3699604.314 *
RMSE_XY 2.028 *
IMAGE_SOURCE "CIR FILM" *
SOURCE_IMAGE_ID "NAPP 9554 153" *
SOURCE_IMAGE_DATE 1996 06 04 *
SOURCE_IMAGE_ID "NAPP 9554 155" *
SOURCE_IMAGE_DATE 1996 06 04 *
SOURCE_DEM_DATE 1997 01 01 *
AGENCY "WESTERN MAPPING CENTER (WMC)" *
PRODUCER "ANALYTICAL SURVEYS INC." *
PRODUCTION_SYSTEM "ORBIT OR_RECTIFY V.5.2" *
STANDARD_VERSION 1996 12 *
METADATA_DATE 1998 03 16 *
DATA_FILE_SIZE 147666330 *
BYTE_COUNT 19530 * * * * * * * * * * * * * * * * * * * * * * * * * * * * * * * * * * * * * * * * * * * * * * * * * * * * * * * * * * * * * * * * * * * * * * * * * * * * * * * * * * * * * * * * * * * * * * * * * * * * * * * * * * * * * * * * * * * * * * * * * * * * * * * * * * * * * * * * * * * * * * * * * * * * * * * * * * * * * * * * * * * * * * * * * * * * * * * * * * * * * * * * * * * * * * * * * * * * * *
END_USGS_HEADER *
