BEGIN_USGS_DOQ_HEADER *
QUADRANGLE_NAME "VALERIE" *
QUADRANT NE *
NORTH_LATITUDE 33 37 30.000 *
WEST_LONGITUDE -116 11 15.000 *
SOUTH_LATITUDE 33 33 45.000 *
EAST_LONGITUDE -116 07 30.000 *
PRODUCTION_DATE 1998 03 27 *
RASTER_ORDER LEFT_RIGHT/TOP_BOTTOM *
BAND_ORGANIZATION BIP *
BAND_CONTENT RED *
BAND_CONTENT GREEN *
BAND_CONTENT BLUE *
BITS_PER_PIXEL 8 *
SAMPLES_AND_LINES 6540 7590 *
HORIZONTAL_DATUM NAD83 *
HORIZONTAL_COORDINATE_SYSTEM UTM *
COORDINATE_ZONE 11 *
HORIZONTAL_UNITS METERS *
HORIZONTAL_RESOLUTION 1.000 *
SECONDARY_HORIZONTAL_DATUM NAD27 *
XY_ORIGIN 574980.000 3721230.000 *
SECONDARY_XY_ORIGIN 575059.531 3721034.667 *
NATION US *
STATE CA *
NW_QUAD_CORNER_XY 575361.702 3720873.896 *
NE_QUAD_CORNER_XY 581158.925 3720921.174 *
SE_QUAD_CORNER_XY 581217.485 3713991.439 *
SW_QUAD_CORNER_XY 575416.078 3713944.205 *
SECONDARY_NW_QUAD_XY 575363.382 3720680.671 *
SECONDARY_NE_QUAD_XY 581160.735 3720727.951 *
SECONDARY_SE_QUAD_XY 581219.292 3713798.422 *
SECONDARY_SW_QUAD_XY 575417.756 3713751.186 *
RMSE_XY 1.160 *
IMAGE_SOURCE "CIR FILM" *
SOURCE_IMAGE_ID "NAPP 9566 38" *
SOURCE_IMAGE_DATE 1996 06 16 *
SOURCE_DEM_DATE 1997 01 01 *
AGENCY "WESTERN MAPPING CENTER (WMC)" *
PRODUCER "ANALYTICAL SURVEYS INC." *
PRODUCTION_SYSTEM "ORBIT OR_RECTIFY V.5.2" *
STANDARD_VERSION 1996 12 *
METADATA_DATE 1998 03 27 *
DATA_FILE_SIZE 148935420 *
BYTE_COUNT 19620 * * * * * * * * * * * * * * * * * * * * * * * * * * * * * * * * * * * * * * * * * * * * * * * * * * * * * * * * * * * * * * * * * * * * * * * * * * * * * * * * * * * * * * * * * * * * * * * * * * * * * * * * * * * * * * * * * * * * * * * * * * * * * * * * * * * * * * * * * * * * * * * * * * * * * * * * * * * * * * * * * * * * * * * * * * * * * * * * * * * * * * * * * * * * * * * * * * * * * * * * *
END_USGS_HEADER *
