BEGIN_USGS_DOQ_HEADER *
QUADRANGLE_NAME "MARTINEZ MOUNTAIN" *
QUADRANT SW *
NORTH_LATITUDE 33 33 45.000 *
WEST_LONGITUDE -116 22 30.000 *
SOUTH_LATITUDE 33 30 00.000 *
EAST_LONGITUDE -116 18 45.000 *
PRODUCTION_DATE 1998 03 25 *
RASTER_ORDER LEFT_RIGHT/TOP_BOTTOM *
BAND_ORGANIZATION BIP *
BAND_CONTENT RED *
BAND_CONTENT GREEN *
BAND_CONTENT BLUE *
BITS_PER_PIXEL 8 *
SAMPLES_AND_LINES 6570 7590 *
HORIZONTAL_DATUM NAD83 *
HORIZONTAL_COORDINATE_SYSTEM UTM *
COORDINATE_ZONE 11 *
HORIZONTAL_UNITS METERS *
HORIZONTAL_RESOLUTION 1.000 *
SECONDARY_HORIZONTAL_DATUM NAD27 *
XY_ORIGIN 557610.000 3714180.000 *
SECONDARY_XY_ORIGIN 557689.753 3713984.393 *
NATION US *
STATE CA *
NW_QUAD_CORNER_XY 558012.056 3713823.498 *
NE_QUAD_CORNER_XY 563813.366 3713860.234 *
SE_QUAD_CORNER_XY 563859.299 3706930.689 *
SW_QUAD_CORNER_XY 558053.813 3706893.987 *
SECONDARY_NW_QUAD_XY 558013.347 3713630.476 *
SECONDARY_NE_QUAD_XY 563814.786 3713667.213 *
SECONDARY_SE_QUAD_XY 563860.718 3706737.875 *
SECONDARY_SW_QUAD_XY 558055.103 3706701.172 *
RMSE_XY 3.241 *
IMAGE_SOURCE "CIR FILM" *
SOURCE_IMAGE_ID "NAPP 9571 185" *
SOURCE_IMAGE_DATE 1996 09 26 *
SOURCE_DEM_DATE 1988 01 01 *
AGENCY "WESTERN MAPPING CENTER (WMC)" *
PRODUCER "ANALYTICAL SURVEYS INC." *
PRODUCTION_SYSTEM "ORBIT OR_RECTIFY V.5.2" *
STANDARD_VERSION 1996 12 *
METADATA_DATE 1998 03 25 *
DATA_FILE_SIZE 149618610 *
BYTE_COUNT 19710 * * * * * * * * * * * * * * * * * * * * * * * * * * * * * * * * * * * * * * * * * * * * * * * * * * * * * * * * * * * * * * * * * * * * * * * * * * * * * * * * * * * * * * * * * * * * * * * * * * * * * * * * * * * * * * * * * * * * * * * * * * * * * * * * * * * * * * * * * * * * * * * * * * * * * * * * * * * * * * * * * * * * * * * * * * * * * * * * * * * * * * * * * * * * * * * * * * * * * * * * * *
END_USGS_HEADER *
