BEGIN_USGS_DOQ_HEADER *
QUADRANGLE_NAME "TORO PEAK" *
QUADRANT SW *
NORTH_LATITUDE 33 33 45.000 *
WEST_LONGITUDE -116 30 00.000 *
SOUTH_LATITUDE 33 30 00.000 *
EAST_LONGITUDE -116 26 15.000 *
PRODUCTION_DATE 1998 04 29 *
RASTER_ORDER LEFT_RIGHT/TOP_BOTTOM *
BAND_ORGANIZATION BIP *
BAND_CONTENT RED *
BAND_CONTENT GREEN *
BAND_CONTENT BLUE *
BITS_PER_PIXEL 8 *
SAMPLES_AND_LINES 6540 7590 *
HORIZONTAL_DATUM NAD83 *
HORIZONTAL_COORDINATE_SYSTEM UTM *
COORDINATE_ZONE 11 *
HORIZONTAL_UNITS METERS *
HORIZONTAL_RESOLUTION 1.000 *
SECONDARY_HORIZONTAL_DATUM NAD27 *
XY_ORIGIN 546030.000 3714120.000 *
SECONDARY_XY_ORIGIN 546109.832 3713924.253 *
NATION US *
STATE CA *
NW_QUAD_CORNER_XY 546409.515 3713760.522 *
NE_QUAD_CORNER_XY 552210.774 3713790.261 *
SE_QUAD_CORNER_XY 552248.354 3706860.780 *
SW_QUAD_CORNER_XY 546442.920 3706831.070 *
SECONDARY_NW_QUAD_XY 546410.548 3713567.499 *
SECONDARY_NE_QUAD_XY 552211.936 3713597.238 *
SECONDARY_SE_QUAD_XY 552249.515 3706667.965 *
SECONDARY_SW_QUAD_XY 546443.951 3706638.253 *
RMSE_XY 2.323 *
IMAGE_SOURCE "CIR FILM" *
SOURCE_IMAGE_ID "NAPP 9568 127" *
SOURCE_IMAGE_DATE 1996 06 21 *
SOURCE_IMAGE_ID "NAPP 9553 40" *
SOURCE_IMAGE_DATE 1996 06 04 *
SOURCE_DEM_DATE 1998 01 01 *
AGENCY "WESTERN MAPPING CENTER (WMC)" *
PRODUCER "ANALYTICAL SURVEYS INC." *
PRODUCTION_SYSTEM "ORBIT OR_RECTIFY V.5.2" *
STANDARD_VERSION 1996 12 *
METADATA_DATE 1998 04 29 *
DATA_FILE_SIZE 148935420 *
BYTE_COUNT 19620 * * * * * * * * * * * * * * * * * * * * * * * * * * * * * * * * * * * * * * * * * * * * * * * * * * * * * * * * * * * * * * * * * * * * * * * * * * * * * * * * * * * * * * * * * * * * * * * * * * * * * * * * * * * * * * * * * * * * * * * * * * * * * * * * * * * * * * * * * * * * * * * * * * * * * * * * * * * * * * * * * * * * * * * * * * * * * * * * * * * * * * * * * * * * * * * * * * * * * * *
END_USGS_HEADER *
