BEGIN_USGS_DOQ_HEADER *
QUADRANGLE_NAME "BUTTERFLY PEAK" *
QUADRANT SW *
NORTH_LATITUDE 33 33 45.000 *
WEST_LONGITUDE -116 37 30.000 *
SOUTH_LATITUDE 33 30 00.000 *
EAST_LONGITUDE -116 33 45.000 *
PRODUCTION_DATE 1998 03 19 *
RASTER_ORDER LEFT_RIGHT/TOP_BOTTOM *
BAND_ORGANIZATION BIP *
BAND_CONTENT RED *
BAND_CONTENT GREEN *
BAND_CONTENT BLUE *
BITS_PER_PIXEL 8 *
SAMPLES_AND_LINES 6540 7590 *
HORIZONTAL_DATUM NAD83 *
HORIZONTAL_COORDINATE_SYSTEM UTM *
COORDINATE_ZONE 11 *
HORIZONTAL_UNITS METERS *
HORIZONTAL_RESOLUTION 1.000 *
SECONDARY_HORIZONTAL_DATUM NAD27 *
XY_ORIGIN 534420.000 3714060.000 *
SECONDARY_XY_ORIGIN 534499.788 3713864.174 *
NATION US *
STATE CA *
NW_QUAD_CORNER_XY 534807.061 3713711.542 *
NE_QUAD_CORNER_XY 540608.278 3713734.283 *
SE_QUAD_CORNER_XY 540637.507 3706804.855 *
SW_QUAD_CORNER_XY 534832.113 3706782.135 *
SECONDARY_NW_QUAD_XY 534807.835 3713518.518 *
SECONDARY_NE_QUAD_XY 540609.182 3713541.259 *
SECONDARY_SE_QUAD_XY 540638.410 3706612.038 *
SECONDARY_SW_QUAD_XY 534832.887 3706589.318 *
RMSE_XY 2.212 *
IMAGE_SOURCE "CIR FILM" *
SOURCE_IMAGE_ID "NAPP 9553 150" *
SOURCE_IMAGE_DATE 1996 06 04 *
SOURCE_DEM_DATE 1997 01 01 *
AGENCY "WESTERN MAPPING CENTER (WMC)" *
PRODUCER "ANALYTICAL SURVEYS INC." *
PRODUCTION_SYSTEM "ORBIT OR_RECTIFY V.5.2" *
STANDARD_VERSION 1996 12 *
METADATA_DATE 1998 03 19 *
DATA_FILE_SIZE 148935420 *
BYTE_COUNT 19620 * * * * * * * * * * * * * * * * * * * * * * * * * * * * * * * * * * * * * * * * * * * * * * * * * * * * * * * * * * * * * * * * * * * * * * * * * * * * * * * * * * * * * * * * * * * * * * * * * * * * * * * * * * * * * * * * * * * * * * * * * * * * * * * * * * * * * * * * * * * * * * * * * * * * * * * * * * * * * * * * * * * * * * * * * * * * * * * * * * * * * * * * * * * * * * * * * * * * * * * * *
END_USGS_HEADER *
