BEGIN_USGS_DOQ_HEADER *
QUADRANGLE_NAME "ANZA" *
QUADRANT SW *
NORTH_LATITUDE 33 33 45.000 *
WEST_LONGITUDE -116 45 00.000 *
SOUTH_LATITUDE 33 30 00.000 *
EAST_LONGITUDE -116 41 15.000 *
PRODUCTION_DATE 1998 03 17 *
RASTER_ORDER LEFT_RIGHT/TOP_BOTTOM *
BAND_ORGANIZATION BIP *
BAND_CONTENT RED *
BAND_CONTENT GREEN *
BAND_CONTENT BLUE *
BITS_PER_PIXEL 8 *
SAMPLES_AND_LINES 6540 7560 *
HORIZONTAL_DATUM NAD83 *
HORIZONTAL_COORDINATE_SYSTEM UTM *
COORDINATE_ZONE 11 *
HORIZONTAL_UNITS METERS *
HORIZONTAL_RESOLUTION 1.000 *
SECONDARY_HORIZONTAL_DATUM NAD27 *
XY_ORIGIN 522810.000 3714000.000 *
SECONDARY_XY_ORIGIN 522889.747 3713804.096 *
NATION US *
STATE CA *
NW_QUAD_CORNER_XY 523204.671 3713676.557 *
NE_QUAD_CORNER_XY 529005.859 3713692.300 *
SE_QUAD_CORNER_XY 529026.736 3706762.911 *
SW_QUAD_CORNER_XY 523221.373 3706747.182 *
SECONDARY_NW_QUAD_XY 523205.187 3713483.532 *
SECONDARY_NE_QUAD_XY 529006.505 3713499.276 *
SECONDARY_SE_QUAD_XY 529027.381 3706570.093 *
SECONDARY_SW_QUAD_XY 523221.889 3706554.364 *
RMSE_XY 0.759 *
IMAGE_SOURCE "CIR FILM" *
SOURCE_IMAGE_ID "NAPP 9554 41" *
SOURCE_IMAGE_DATE 1996 06 04 *
SOURCE_DEM_DATE 1997 01 01 *
AGENCY "WESTERN MAPPING CENTER (WMC)" *
PRODUCER "ANALYTICAL SURVEYS INC." *
PRODUCTION_SYSTEM "ORBIT OR_RECTIFY V.5.2" *
STANDARD_VERSION 1996 12 *
METADATA_DATE 1998 03 17 *
DATA_FILE_SIZE 148346820 *
BYTE_COUNT 19620 * * * * * * * * * * * * * * * * * * * * * * * * * * * * * * * * * * * * * * * * * * * * * * * * * * * * * * * * * * * * * * * * * * * * * * * * * * * * * * * * * * * * * * * * * * * * * * * * * * * * * * * * * * * * * * * * * * * * * * * * * * * * * * * * * * * * * * * * * * * * * * * * * * * * * * * * * * * * * * * * * * * * * * * * * * * * * * * * * * * * * * * * * * * * * * * * * * * * * * * * *
END_USGS_HEADER *
