BEGIN_USGS_DOQ_HEADER *
QUADRANGLE_NAME "SAGE" *
QUADRANT SE *
NORTH_LATITUDE 33 33 45.000 *
WEST_LONGITUDE -116 56 15.000 *
SOUTH_LATITUDE 33 30 00.000 *
EAST_LONGITUDE -116 52 30.000 *
PRODUCTION_DATE 1998 03 16 *
RASTER_ORDER LEFT_RIGHT/TOP_BOTTOM *
BAND_ORGANIZATION BIP *
BAND_CONTENT RED *
BAND_CONTENT GREEN *
BAND_CONTENT BLUE *
BITS_PER_PIXEL 8 *
SAMPLES_AND_LINES 6510 7560 *
HORIZONTAL_DATUM NAD83 *
HORIZONTAL_COORDINATE_SYSTEM UTM *
COORDINATE_ZONE 11 *
HORIZONTAL_UNITS METERS *
HORIZONTAL_RESOLUTION 1.000 *
SECONDARY_HORIZONTAL_DATUM NAD27 *
XY_ORIGIN 505410.000 3713970.000 *
SECONDARY_XY_ORIGIN 505489.717 3713773.986 *
NATION US *
STATE CA *
NW_QUAD_CORNER_XY 505801.161 3713650.319 *
NE_QUAD_CORNER_XY 511602.325 3713655.566 *
SE_QUAD_CORNER_XY 511610.675 3706726.211 *
SW_QUAD_CORNER_XY 505805.336 3706720.968 *
SECONDARY_NW_QUAD_XY 505801.290 3713457.293 *
SECONDARY_NE_QUAD_XY 511602.583 3713462.541 *
SECONDARY_SE_QUAD_XY 511610.933 3706533.392 *
SECONDARY_SW_QUAD_XY 505805.465 3706528.149 *
RMSE_XY 4.832 *
IMAGE_SOURCE "CIR FILM" *
SOURCE_IMAGE_ID "NAPP 9554 188" *
SOURCE_IMAGE_DATE 1996 06 04 *
SOURCE_IMAGE_ID "NAPP 9554 186" *
SOURCE_IMAGE_DATE 1996 06 04 *
SOURCE_DEM_DATE 1997 01 01 *
AGENCY "WESTERN MAPPING CENTER (WMC)" *
PRODUCER "ANALYTICAL SURVEYS INC." *
PRODUCTION_SYSTEM "ORBIT OR_RECTIFY V.5.2" *
STANDARD_VERSION 1996 12 *
METADATA_DATE 1998 03 16 *
DATA_FILE_SIZE 147666330 *
BYTE_COUNT 19530 * * * * * * * * * * * * * * * * * * * * * * * * * * * * * * * * * * * * * * * * * * * * * * * * * * * * * * * * * * * * * * * * * * * * * * * * * * * * * * * * * * * * * * * * * * * * * * * * * * * * * * * * * * * * * * * * * * * * * * * * * * * * * * * * * * * * * * * * * * * * * * * * * * * * * * * * * * * * * * * * * * * * * * * * * * * * * * * * * * * * * * * * * * * * * * * * * * * * * *
END_USGS_HEADER *
