BEGIN_USGS_DOQ_HEADER *
QUADRANGLE_NAME "THERMAL CANYON" *
QUADRANT SE *
NORTH_LATITUDE 33 41 15.000 *
WEST_LONGITUDE -116 03 45.000 *
SOUTH_LATITUDE 33 37 30.000 *
EAST_LONGITUDE -116 00 00.000 *
PRODUCTION_DATE 1998 03 27 *
RASTER_ORDER LEFT_RIGHT/TOP_BOTTOM *
BAND_ORGANIZATION BIP *
BAND_CONTENT RED *
BAND_CONTENT GREEN *
BAND_CONTENT BLUE *
BITS_PER_PIXEL 8 *
SAMPLES_AND_LINES 6570 7620 *
HORIZONTAL_DATUM NAD83 *
HORIZONTAL_COORDINATE_SYSTEM UTM *
COORDINATE_ZONE 11 *
HORIZONTAL_UNITS METERS *
HORIZONTAL_RESOLUTION 1.000 *
SECONDARY_HORIZONTAL_DATUM NAD27 *
XY_ORIGIN 586500.000 3728280.000 *
SECONDARY_XY_ORIGIN 586579.323 3728084.927 *
NATION US *
STATE CA *
NW_QUAD_CORNER_XY 586893.339 3727901.805 *
NE_QUAD_CORNER_XY 592686.450 3727956.139 *
SE_QUAD_CORNER_XY 592753.488 3721026.240 *
SW_QUAD_CORNER_XY 586956.186 3720971.956 *
SECONDARY_NW_QUAD_XY 586895.280 3727708.378 *
SECONDARY_NE_QUAD_XY 592688.520 3727762.713 *
SECONDARY_SE_QUAD_XY 592755.556 3720833.018 *
SECONDARY_SW_QUAD_XY 586958.125 3720778.733 *
RMSE_XY 1.786 *
IMAGE_SOURCE "CIR FILM" *
SOURCE_IMAGE_ID "NAPP 9568 41" *
SOURCE_IMAGE_DATE 1996 06 21 *
SOURCE_IMAGE_ID "NAPP 9566 111" *
SOURCE_IMAGE_DATE 1996 06 16 *
SOURCE_DEM_DATE 1972 01 01 *
AGENCY "WESTERN MAPPING CENTER (WMC)" *
PRODUCER "ANALYTICAL SURVEYS INC." *
PRODUCTION_SYSTEM "ORBIT OR_RECTIFY V.5.2" *
STANDARD_VERSION 1996 12 *
METADATA_DATE 1998 03 27 *
DATA_FILE_SIZE 150209910 *
BYTE_COUNT 19710 * * * * * * * * * * * * * * * * * * * * * * * * * * * * * * * * * * * * * * * * * * * * * * * * * * * * * * * * * * * * * * * * * * * * * * * * * * * * * * * * * * * * * * * * * * * * * * * * * * * * * * * * * * * * * * * * * * * * * * * * * * * * * * * * * * * * * * * * * * * * * * * * * * * * * * * * * * * * * * * * * * * * * * * * * * * * * * * * * * * * * * * * * * * * * * * * * * * * * * * *
END_USGS_HEADER *
