BEGIN_USGS_DOQ_HEADER *
QUADRANGLE_NAME "INDIO" *
QUADRANT NW *
NORTH_LATITUDE 33 45 00.000 *
WEST_LONGITUDE -116 15 00.000 *
SOUTH_LATITUDE 33 41 15.000 *
EAST_LONGITUDE -116 11 15.000 *
PRODUCTION_DATE 1998 03 25 *
RASTER_ORDER LEFT_RIGHT/TOP_BOTTOM *
BAND_ORGANIZATION BIP *
BAND_CONTENT RED *
BAND_CONTENT GREEN *
BAND_CONTENT BLUE *
BITS_PER_PIXEL 8 *
SAMPLES_AND_LINES 6540 7620 *
HORIZONTAL_DATUM NAD83 *
HORIZONTAL_COORDINATE_SYSTEM UTM *
COORDINATE_ZONE 11 *
HORIZONTAL_UNITS METERS *
HORIZONTAL_RESOLUTION 1.000 *
SECONDARY_HORIZONTAL_DATUM NAD27 *
XY_ORIGIN 569070.000 3735060.000 *
SECONDARY_XY_ORIGIN 569149.443 3734864.606 *
NATION US *
STATE CA *
NW_QUAD_CORNER_XY 569463.880 3734689.630 *
NE_QUAD_CORNER_XY 575252.681 3734733.485 *
SE_QUAD_CORNER_XY 575307.236 3727803.656 *
SW_QUAD_CORNER_XY 569514.238 3727759.841 *
SECONDARY_NW_QUAD_XY 569465.434 3734495.995 *
SECONDARY_NE_QUAD_XY 575254.364 3734539.851 *
SECONDARY_SE_QUAD_XY 575308.918 3727610.226 *
SECONDARY_SW_QUAD_XY 569515.791 3727566.410 *
RMSE_XY 1.246 *
IMAGE_SOURCE "CIR FILM" *
SOURCE_IMAGE_ID "NAPP 9571 34" *
SOURCE_IMAGE_DATE 1996 09 26 *
SOURCE_DEM_DATE 1997 01 01 *
AGENCY "WESTERN MAPPING CENTER (WMC)" *
PRODUCER "ANALYTICAL SURVEYS INC." *
PRODUCTION_SYSTEM "ORBIT OR_RECTIFY V.5.2" *
STANDARD_VERSION 1996 12 *
METADATA_DATE 1998 03 25 *
DATA_FILE_SIZE 149524020 *
BYTE_COUNT 19620 * * * * * * * * * * * * * * * * * * * * * * * * * * * * * * * * * * * * * * * * * * * * * * * * * * * * * * * * * * * * * * * * * * * * * * * * * * * * * * * * * * * * * * * * * * * * * * * * * * * * * * * * * * * * * * * * * * * * * * * * * * * * * * * * * * * * * * * * * * * * * * * * * * * * * * * * * * * * * * * * * * * * * * * * * * * * * * * * * * * * * * * * * * * * * * * * * * * * * * * * *
END_USGS_HEADER *
