BEGIN_USGS_DOQ_HEADER *
QUADRANGLE_NAME "LA QUINTA" *
QUADRANT SW *
NORTH_LATITUDE 33 41 15.000 *
WEST_LONGITUDE -116 22 30.000 *
SOUTH_LATITUDE 33 37 30.000 *
EAST_LONGITUDE -116 18 45.000 *
PRODUCTION_DATE 1998 03 25 *
RASTER_ORDER LEFT_RIGHT/TOP_BOTTOM *
BAND_ORGANIZATION BIP *
BAND_CONTENT RED *
BAND_CONTENT GREEN *
BAND_CONTENT BLUE *
BITS_PER_PIXEL 8 *
SAMPLES_AND_LINES 6540 7590 *
HORIZONTAL_DATUM NAD83 *
HORIZONTAL_COORDINATE_SYSTEM UTM *
COORDINATE_ZONE 11 *
HORIZONTAL_UNITS METERS *
HORIZONTAL_RESOLUTION 1.000 *
SECONDARY_HORIZONTAL_DATUM NAD27 *
XY_ORIGIN 557550.000 3728040.000 *
SECONDARY_XY_ORIGIN 557629.597 3727844.440 *
NATION US *
STATE CA *
NW_QUAD_CORNER_XY 557928.336 3727682.727 *
NE_QUAD_CORNER_XY 563721.272 3727719.531 *
SE_QUAD_CORNER_XY 563767.357 3720789.848 *
SW_QUAD_CORNER_XY 557970.231 3720753.078 *
SECONDARY_NW_QUAD_XY 557929.629 3727489.295 *
SECONDARY_NE_QUAD_XY 563722.695 3727526.099 *
SECONDARY_SE_QUAD_XY 563768.779 3720596.621 *
SECONDARY_SW_QUAD_XY 557971.523 3720559.850 *
RMSE_XY 2.115 *
IMAGE_SOURCE "CIR FILM" *
SOURCE_IMAGE_ID "NAPP 9571 141" *
SOURCE_IMAGE_DATE 1996 09 26 *
SOURCE_IMAGE_ID "NAPP 9571 140" *
SOURCE_IMAGE_DATE 1996 09 26 *
SOURCE_DEM_DATE 1997 01 01 *
AGENCY "WESTERN MAPPING CENTER (WMC)" *
PRODUCER "ANALYTICAL SURVEYS INC." *
PRODUCTION_SYSTEM "ORBIT OR_RECTIFY V.5.2" *
STANDARD_VERSION 1996 12 *
METADATA_DATE 1998 03 25 *
DATA_FILE_SIZE 148935420 *
BYTE_COUNT 19620 * * * * * * * * * * * * * * * * * * * * * * * * * * * * * * * * * * * * * * * * * * * * * * * * * * * * * * * * * * * * * * * * * * * * * * * * * * * * * * * * * * * * * * * * * * * * * * * * * * * * * * * * * * * * * * * * * * * * * * * * * * * * * * * * * * * * * * * * * * * * * * * * * * * * * * * * * * * * * * * * * * * * * * * * * * * * * * * * * * * * * * * * * * * * * * * * * * * * * * *
END_USGS_HEADER *
