BEGIN_USGS_DOQ_HEADER *
QUADRANGLE_NAME "PALM VIEW PEAK" *
QUADRANT NW *
NORTH_LATITUDE 33 45 00.000 *
WEST_LONGITUDE -116 37 30.000 *
SOUTH_LATITUDE 33 41 15.000 *
EAST_LONGITUDE -116 33 45.000 *
PRODUCTION_DATE 1998 03 19 *
RASTER_ORDER LEFT_RIGHT/TOP_BOTTOM *
BAND_ORGANIZATION BIP *
BAND_CONTENT RED *
BAND_CONTENT GREEN *
BAND_CONTENT BLUE *
BITS_PER_PIXEL 8 *
SAMPLES_AND_LINES 6540 7590 *
HORIZONTAL_DATUM NAD83 *
HORIZONTAL_COORDINATE_SYSTEM UTM *
COORDINATE_ZONE 11 *
HORIZONTAL_UNITS METERS *
HORIZONTAL_RESOLUTION 1.000 *
SECONDARY_HORIZONTAL_DATUM NAD27 *
XY_ORIGIN 534330.000 3734850.000 *
SECONDARY_XY_ORIGIN 534409.528 3734654.310 *
NATION US *
STATE CA *
NW_QUAD_CORNER_XY 534731.653 3734500.183 *
NE_QUAD_CORNER_XY 540520.302 3734522.986 *
SE_QUAD_CORNER_XY 540549.676 3727593.349 *
SW_QUAD_CORNER_XY 534756.830 3727570.566 *
SECONDARY_NW_QUAD_XY 534732.430 3734306.543 *
SECONDARY_NE_QUAD_XY 540521.209 3734329.347 *
SECONDARY_SE_QUAD_XY 540550.581 3727399.914 *
SECONDARY_SW_QUAD_XY 534757.607 3727377.131 *
RMSE_XY 3.817 *
IMAGE_SOURCE "CIR FILM" *
SOURCE_IMAGE_ID "NAPP 9553 156" *
SOURCE_IMAGE_DATE 1996 06 04 *
SOURCE_DEM_DATE 1997 01 01 *
AGENCY "WESTERN MAPPING CENTER (WMC)" *
PRODUCER "ANALYTICAL SURVEYS INC." *
PRODUCTION_SYSTEM "ORBIT OR_RECTIFY V.5.2" *
STANDARD_VERSION 1996 12 *
METADATA_DATE 1998 03 19 *
DATA_FILE_SIZE 148935420 *
BYTE_COUNT 19620 * * * * * * * * * * * * * * * * * * * * * * * * * * * * * * * * * * * * * * * * * * * * * * * * * * * * * * * * * * * * * * * * * * * * * * * * * * * * * * * * * * * * * * * * * * * * * * * * * * * * * * * * * * * * * * * * * * * * * * * * * * * * * * * * * * * * * * * * * * * * * * * * * * * * * * * * * * * * * * * * * * * * * * * * * * * * * * * * * * * * * * * * * * * * * * * * * * * * * * * * *
END_USGS_HEADER *
