BEGIN_USGS_DOQ_HEADER *
QUADRANGLE_NAME "PALM VIEW PEAK" *
QUADRANT SE *
NORTH_LATITUDE 33 41 15.000 *
WEST_LONGITUDE -116 33 45.000 *
SOUTH_LATITUDE 33 37 30.000 *
EAST_LONGITUDE -116 30 00.000 *
PRODUCTION_DATE 1998 03 19 *
RASTER_ORDER LEFT_RIGHT/TOP_BOTTOM *
BAND_ORGANIZATION BIP *
BAND_CONTENT RED *
BAND_CONTENT GREEN *
BAND_CONTENT BLUE *
BITS_PER_PIXEL 8 *
SAMPLES_AND_LINES 6540 7590 *
HORIZONTAL_DATUM NAD83 *
HORIZONTAL_COORDINATE_SYSTEM UTM *
COORDINATE_ZONE 11 *
HORIZONTAL_UNITS METERS *
HORIZONTAL_RESOLUTION 1.000 *
SECONDARY_HORIZONTAL_DATUM NAD27 *
XY_ORIGIN 540150.000 3727950.000 *
SECONDARY_XY_ORIGIN 540229.644 3727754.280 *
NATION US *
STATE CA *
NW_QUAD_CORNER_XY 540549.676 3727593.349 *
NE_QUAD_CORNER_XY 546342.540 3727619.636 *
SE_QUAD_CORNER_XY 546376.055 3720690.044 *
SW_QUAD_CORNER_XY 540579.001 3720663.781 *
SECONDARY_NW_QUAD_XY 540550.581 3727399.914 *
SECONDARY_NE_QUAD_XY 546343.575 3727426.202 *
SECONDARY_SE_QUAD_XY 546377.089 3720496.815 *
SECONDARY_SW_QUAD_XY 540579.906 3720470.551 *
RMSE_XY 2.976 *
IMAGE_SOURCE "CIR FILM" *
SOURCE_IMAGE_ID "NAPP 9553 79" *
SOURCE_IMAGE_DATE 1996 06 04 *
SOURCE_DEM_DATE 1997 01 01 *
AGENCY "WESTERN MAPPING CENTER (WMC)" *
PRODUCER "ANALYTICAL SURVEYS INC." *
PRODUCTION_SYSTEM "ORBIT OR_RECTIFY V.5.2" *
STANDARD_VERSION 1996 12 *
METADATA_DATE 1998 03 19 *
DATA_FILE_SIZE 148935420 *
BYTE_COUNT 19620 * * * * * * * * * * * * * * * * * * * * * * * * * * * * * * * * * * * * * * * * * * * * * * * * * * * * * * * * * * * * * * * * * * * * * * * * * * * * * * * * * * * * * * * * * * * * * * * * * * * * * * * * * * * * * * * * * * * * * * * * * * * * * * * * * * * * * * * * * * * * * * * * * * * * * * * * * * * * * * * * * * * * * * * * * * * * * * * * * * * * * * * * * * * * * * * * * * * * * * * * *
END_USGS_HEADER *
