BEGIN_USGS_DOQ_HEADER *
QUADRANGLE_NAME "PALM VIEW PEAK" *
QUADRANT SW *
NORTH_LATITUDE 33 41 15.000 *
WEST_LONGITUDE -116 37 30.000 *
SOUTH_LATITUDE 33 37 30.000 *
EAST_LONGITUDE -116 33 45.000 *
PRODUCTION_DATE 1998 03 19 *
RASTER_ORDER LEFT_RIGHT/TOP_BOTTOM *
BAND_ORGANIZATION BIP *
BAND_CONTENT RED *
BAND_CONTENT GREEN *
BAND_CONTENT BLUE *
BITS_PER_PIXEL 8 *
SAMPLES_AND_LINES 6540 7590 *
HORIZONTAL_DATUM NAD83 *
HORIZONTAL_COORDINATE_SYSTEM UTM *
COORDINATE_ZONE 11 *
HORIZONTAL_UNITS METERS *
HORIZONTAL_RESOLUTION 1.000 *
SECONDARY_HORIZONTAL_DATUM NAD27 *
XY_ORIGIN 534360.000 3727920.000 *
SECONDARY_XY_ORIGIN 534439.615 3727724.264 *
NATION US *
STATE CA *
NW_QUAD_CORNER_XY 534756.830 3727570.566 *
NE_QUAD_CORNER_XY 540549.676 3727593.349 *
SE_QUAD_CORNER_XY 540579.001 3720663.781 *
SW_QUAD_CORNER_XY 534781.966 3720641.019 *
SECONDARY_NW_QUAD_XY 534757.607 3727377.131 *
SECONDARY_NE_QUAD_XY 540550.581 3727399.914 *
SECONDARY_SE_QUAD_XY 540579.906 3720470.551 *
SECONDARY_SW_QUAD_XY 534782.742 3720447.789 *
RMSE_XY 4.333 *
IMAGE_SOURCE "CIR FILM" *
SOURCE_IMAGE_ID "NAPP 9553 154" *
SOURCE_IMAGE_DATE 1996 06 04 *
SOURCE_DEM_DATE 1997 01 01 *
AGENCY "WESTERN MAPPING CENTER (WMC)" *
PRODUCER "ANALYTICAL SURVEYS INC." *
PRODUCTION_SYSTEM "ORBIT OR_RECTIFY V.5.2" *
STANDARD_VERSION 1996 12 *
METADATA_DATE 1998 03 19 *
DATA_FILE_SIZE 148935420 *
BYTE_COUNT 19620 * * * * * * * * * * * * * * * * * * * * * * * * * * * * * * * * * * * * * * * * * * * * * * * * * * * * * * * * * * * * * * * * * * * * * * * * * * * * * * * * * * * * * * * * * * * * * * * * * * * * * * * * * * * * * * * * * * * * * * * * * * * * * * * * * * * * * * * * * * * * * * * * * * * * * * * * * * * * * * * * * * * * * * * * * * * * * * * * * * * * * * * * * * * * * * * * * * * * * * * * *
END_USGS_HEADER *
