BEGIN_USGS_DOQ_HEADER *
QUADRANGLE_NAME "IDYLLWILD" *
QUADRANT NW *
NORTH_LATITUDE 33 45 00.000 *
WEST_LONGITUDE -116 45 00.000 *
SOUTH_LATITUDE 33 41 15.000 *
EAST_LONGITUDE -116 41 15.000 *
PRODUCTION_DATE 1998 03 17 *
RASTER_ORDER LEFT_RIGHT/TOP_BOTTOM *
BAND_ORGANIZATION BIP *
BAND_CONTENT RED *
BAND_CONTENT GREEN *
BAND_CONTENT BLUE *
BITS_PER_PIXEL 8 *
SAMPLES_AND_LINES 6540 7560 *
HORIZONTAL_DATUM NAD83 *
HORIZONTAL_COORDINATE_SYSTEM UTM *
COORDINATE_ZONE 11 *
HORIZONTAL_UNITS METERS *
HORIZONTAL_RESOLUTION 1.000 *
SECONDARY_HORIZONTAL_DATUM NAD27 *
XY_ORIGIN 522750.000 3734790.000 *
SECONDARY_XY_ORIGIN 522829.463 3734594.301 *
NATION US *
STATE CA *
NW_QUAD_CORNER_XY 523154.400 3734465.102 *
NE_QUAD_CORNER_XY 528943.020 3734480.888 *
SE_QUAD_CORNER_XY 528964.001 3727551.289 *
SW_QUAD_CORNER_XY 523171.185 3727535.517 *
SECONDARY_NW_QUAD_XY 523154.918 3734271.461 *
SECONDARY_NE_QUAD_XY 528943.667 3734287.248 *
SECONDARY_SE_QUAD_XY 528964.648 3727357.853 *
SECONDARY_SW_QUAD_XY 523171.702 3727342.081 *
RMSE_XY 3.797 *
IMAGE_SOURCE "CIR FILM" *
SOURCE_IMAGE_ID "NAPP 9568 102" *
SOURCE_IMAGE_DATE 1996 06 21 *
SOURCE_DEM_DATE 1988 01 01 *
AGENCY "WESTERN MAPPING CENTER (WMC)" *
PRODUCER "ANALYTICAL SURVEYS INC." *
PRODUCTION_SYSTEM "ORBIT OR_RECTIFY V.5.2" *
STANDARD_VERSION 1996 12 *
METADATA_DATE 1998 03 18 *
DATA_FILE_SIZE 148346820 *
BYTE_COUNT 19620 * * * * * * * * * * * * * * * * * * * * * * * * * * * * * * * * * * * * * * * * * * * * * * * * * * * * * * * * * * * * * * * * * * * * * * * * * * * * * * * * * * * * * * * * * * * * * * * * * * * * * * * * * * * * * * * * * * * * * * * * * * * * * * * * * * * * * * * * * * * * * * * * * * * * * * * * * * * * * * * * * * * * * * * * * * * * * * * * * * * * * * * * * * * * * * * * * * * * * * * * *
END_USGS_HEADER *
