BEGIN_USGS_DOQ_HEADER *
QUADRANGLE_NAME "HEMET" *
QUADRANT SE *
NORTH_LATITUDE 33 41 15.000 *
WEST_LONGITUDE -116 56 15.000 *
SOUTH_LATITUDE 33 37 30.000 *
EAST_LONGITUDE -116 52 30.000 *
PRODUCTION_DATE 1998 03 13 *
RASTER_ORDER LEFT_RIGHT/TOP_BOTTOM *
BAND_ORGANIZATION BIP *
BAND_CONTENT RED *
BAND_CONTENT GREEN *
BAND_CONTENT BLUE *
BITS_PER_PIXEL 8 *
SAMPLES_AND_LINES 6510 7560 *
HORIZONTAL_DATUM NAD83 *
HORIZONTAL_COORDINATE_SYSTEM UTM *
COORDINATE_ZONE 11 *
HORIZONTAL_UNITS METERS *
HORIZONTAL_RESOLUTION 1.000 *
SECONDARY_HORIZONTAL_DATUM NAD27 *
XY_ORIGIN 505410.000 3727830.000 *
SECONDARY_XY_ORIGIN 505489.542 3727634.104 *
NATION US *
STATE CA *
NW_QUAD_CORNER_XY 505792.789 3727509.230 *
NE_QUAD_CORNER_XY 511585.582 3727514.487 *
SE_QUAD_CORNER_XY 511593.960 3720584.992 *
SW_QUAD_CORNER_XY 505796.979 3720579.739 *
SECONDARY_NW_QUAD_XY 505792.919 3727315.793 *
SECONDARY_NE_QUAD_XY 511585.840 3727321.051 *
SECONDARY_SE_QUAD_XY 511594.219 3720391.760 *
SECONDARY_SW_QUAD_XY 505797.108 3720386.508 *
RMSE_XY 2.483 *
IMAGE_SOURCE "CIR FILM" *
SOURCE_IMAGE_ID "NAPP 9554 184" *
SOURCE_IMAGE_DATE 1996 06 04 *
SOURCE_IMAGE_ID "NAPP 10188 27" *
SOURCE_IMAGE_DATE 1996 09 30 *
SOURCE_DEM_DATE 1997 01 01 *
AGENCY "WESTERN MAPPING CENTER (WMC)" *
PRODUCER "ANALYTICAL SURVEYS INC." *
PRODUCTION_SYSTEM "ORBIT OR_RECTIFY V.5.2" *
STANDARD_VERSION 1996 12 *
METADATA_DATE 1998 03 13 *
DATA_FILE_SIZE 147666330 *
BYTE_COUNT 19530 * * * * * * * * * * * * * * * * * * * * * * * * * * * * * * * * * * * * * * * * * * * * * * * * * * * * * * * * * * * * * * * * * * * * * * * * * * * * * * * * * * * * * * * * * * * * * * * * * * * * * * * * * * * * * * * * * * * * * * * * * * * * * * * * * * * * * * * * * * * * * * * * * * * * * * * * * * * * * * * * * * * * * * * * * * * * * * * * * * * * * * * * * * * * * * * * * * * * * *
END_USGS_HEADER *
