BEGIN_USGS_DOQ_HEADER *
QUADRANGLE_NAME "MYOMA" *
QUADRANT NW *
NORTH_LATITUDE 33 52 30.000 *
WEST_LONGITUDE -116 22 30.000 *
SOUTH_LATITUDE 33 48 45.000 *
EAST_LONGITUDE -116 18 45.000 *
PRODUCTION_DATE 1998 03 22 *
RASTER_ORDER LEFT_RIGHT/TOP_BOTTOM *
BAND_ORGANIZATION BIP *
BAND_CONTENT RED *
BAND_CONTENT GREEN *
BAND_CONTENT BLUE *
BITS_PER_PIXEL 8 *
SAMPLES_AND_LINES 6540 7590 *
HORIZONTAL_DATUM NAD83 *
HORIZONTAL_COORDINATE_SYSTEM UTM *
COORDINATE_ZONE 11 *
HORIZONTAL_UNITS METERS *
HORIZONTAL_RESOLUTION 1.000 *
SECONDARY_HORIZONTAL_DATUM NAD27 *
XY_ORIGIN 557400.000 3748830.000 *
SECONDARY_XY_ORIGIN 557479.329 3748634.683 *
NATION US *
STATE CA *
NW_QUAD_CORNER_XY 557802.238 3748472.092 *
NE_QUAD_CORNER_XY 563582.562 3748508.996 *
SE_QUAD_CORNER_XY 563628.875 3741579.105 *
SW_QUAD_CORNER_XY 557844.339 3741542.235 *
SECONDARY_NW_QUAD_XY 557803.535 3748278.049 *
SECONDARY_NE_QUAD_XY 563583.990 3748314.954 *
SECONDARY_SE_QUAD_XY 563630.301 3741385.265 *
SECONDARY_SW_QUAD_XY 557845.635 3741348.394 *
RMSE_XY 1.180 *
IMAGE_SOURCE "CIR FILM" *
SOURCE_IMAGE_ID "NAPP 9571 135" *
SOURCE_IMAGE_DATE 1996 09 26 *
SOURCE_DEM_DATE 1997 01 01 *
AGENCY "WESTERN MAPPING CENTER (WMC)" *
PRODUCER "ANALYTICAL SURVEYS INC." *
PRODUCTION_SYSTEM "ORBIT OR_RECTIFY V.5.2" *
STANDARD_VERSION 1996 12 *
METADATA_DATE 1998 03 22 *
DATA_FILE_SIZE 148935420 *
BYTE_COUNT 19620 * * * * * * * * * * * * * * * * * * * * * * * * * * * * * * * * * * * * * * * * * * * * * * * * * * * * * * * * * * * * * * * * * * * * * * * * * * * * * * * * * * * * * * * * * * * * * * * * * * * * * * * * * * * * * * * * * * * * * * * * * * * * * * * * * * * * * * * * * * * * * * * * * * * * * * * * * * * * * * * * * * * * * * * * * * * * * * * * * * * * * * * * * * * * * * * * * * * * * * * * *
END_USGS_HEADER *
