BEGIN_USGS_DOQ_HEADER *
QUADRANGLE_NAME "MYOMA" *
QUADRANT SE *
NORTH_LATITUDE 33 48 45.000 *
WEST_LONGITUDE -116 18 45.000 *
SOUTH_LATITUDE 33 45 00.000 *
EAST_LONGITUDE -116 15 00.000 *
PRODUCTION_DATE 1998 03 22 *
RASTER_ORDER LEFT_RIGHT/TOP_BOTTOM *
BAND_ORGANIZATION BIP *
BAND_CONTENT RED *
BAND_CONTENT GREEN *
BAND_CONTENT BLUE *
BITS_PER_PIXEL 8 *
SAMPLES_AND_LINES 6540 7590 *
HORIZONTAL_DATUM NAD83 *
HORIZONTAL_COORDINATE_SYSTEM UTM *
COORDINATE_ZONE 11 *
HORIZONTAL_UNITS METERS *
HORIZONTAL_RESOLUTION 1.000 *
SECONDARY_HORIZONTAL_DATUM NAD27 *
XY_ORIGIN 563250.000 3741930.000 *
SECONDARY_XY_ORIGIN 563329.411 3741734.657 *
NATION US *
STATE CA *
NW_QUAD_CORNER_XY 563628.875 3741579.105 *
NE_QUAD_CORNER_XY 569413.440 3741619.488 *
SE_QUAD_CORNER_XY 569463.880 3734689.630 *
SW_QUAD_CORNER_XY 563675.112 3734649.284 *
SECONDARY_NW_QUAD_XY 563630.301 3741385.265 *
SECONDARY_NE_QUAD_XY 569414.995 3741425.649 *
SECONDARY_SE_QUAD_XY 569465.434 3734495.995 *
SECONDARY_SW_QUAD_XY 563676.536 3734455.647 *
RMSE_XY 1.616 *
IMAGE_SOURCE "CIR FILM" *
SOURCE_IMAGE_ID "NAPP 9571 102" *
SOURCE_IMAGE_DATE 1996 09 26 *
SOURCE_DEM_DATE 1997 01 01 *
AGENCY "WESTERN MAPPING CENTER (WMC)" *
PRODUCER "ANALYTICAL SURVEYS INC." *
PRODUCTION_SYSTEM "ORBIT OR_RECTIFY V.5.2" *
STANDARD_VERSION 1996 12 *
METADATA_DATE 1998 03 22 *
DATA_FILE_SIZE 148935420 *
BYTE_COUNT 19620 * * * * * * * * * * * * * * * * * * * * * * * * * * * * * * * * * * * * * * * * * * * * * * * * * * * * * * * * * * * * * * * * * * * * * * * * * * * * * * * * * * * * * * * * * * * * * * * * * * * * * * * * * * * * * * * * * * * * * * * * * * * * * * * * * * * * * * * * * * * * * * * * * * * * * * * * * * * * * * * * * * * * * * * * * * * * * * * * * * * * * * * * * * * * * * * * * * * * * * * * *
END_USGS_HEADER *
