BEGIN_USGS_DOQ_HEADER *
QUADRANGLE_NAME "CATHEDRAL CITY" *
QUADRANT SE *
NORTH_LATITUDE 33 48 45.000 *
WEST_LONGITUDE -116 26 15.000 *
SOUTH_LATITUDE 33 45 00.000 *
EAST_LONGITUDE -116 22 30.000 *
PRODUCTION_DATE 1998 03 23 *
RASTER_ORDER LEFT_RIGHT/TOP_BOTTOM *
BAND_ORGANIZATION BIP *
BAND_CONTENT RED *
BAND_CONTENT GREEN *
BAND_CONTENT BLUE *
BITS_PER_PIXEL 8 *
SAMPLES_AND_LINES 6540 7620 *
HORIZONTAL_DATUM NAD83 *
HORIZONTAL_COORDINATE_SYSTEM UTM *
COORDINATE_ZONE 11 *
HORIZONTAL_UNITS METERS *
HORIZONTAL_RESOLUTION 1.000 *
SECONDARY_HORIZONTAL_DATUM NAD27 *
XY_ORIGIN 551670.000 3741870.000 *
SECONDARY_XY_ORIGIN 551749.443 3741674.496 *
NATION US *
STATE CA *
NW_QUAD_CORNER_XY 552059.830 3741508.876 *
NE_QUAD_CORNER_XY 557844.339 3741542.235 *
SE_QUAD_CORNER_XY 557886.372 3734612.446 *
SW_QUAD_CORNER_XY 552097.659 3734579.118 *
SECONDARY_NW_QUAD_XY 552060.997 3741315.034 *
SECONDARY_NE_QUAD_XY 557845.635 3741348.394 *
SECONDARY_SE_QUAD_XY 557887.667 3734418.809 *
SECONDARY_SW_QUAD_XY 552098.824 3734385.480 *
RMSE_XY 1.734 *
IMAGE_SOURCE "CIR FILM" *
SOURCE_IMAGE_ID "NAPP 9552 179" *
SOURCE_IMAGE_DATE 1996 06 04 *
SOURCE_DEM_DATE 1997 01 01 *
AGENCY "WESTERN MAPPING CENTER (WMC)" *
PRODUCER "ANALYTICAL SURVEYS INC." *
PRODUCTION_SYSTEM "ORBIT OR_RECTIFY V.5.2" *
STANDARD_VERSION 1996 12 *
METADATA_DATE 1998 03 24 *
DATA_FILE_SIZE 149524020 *
BYTE_COUNT 19620 * * * * * * * * * * * * * * * * * * * * * * * * * * * * * * * * * * * * * * * * * * * * * * * * * * * * * * * * * * * * * * * * * * * * * * * * * * * * * * * * * * * * * * * * * * * * * * * * * * * * * * * * * * * * * * * * * * * * * * * * * * * * * * * * * * * * * * * * * * * * * * * * * * * * * * * * * * * * * * * * * * * * * * * * * * * * * * * * * * * * * * * * * * * * * * * * * * * * * * * * *
END_USGS_HEADER *
