BEGIN_USGS_DOQ_HEADER *
QUADRANGLE_NAME "PALM SPRINGS" *
QUADRANT NW *
NORTH_LATITUDE 33 52 30.000 *
WEST_LONGITUDE -116 37 30.000 *
SOUTH_LATITUDE 33 48 45.000 *
EAST_LONGITUDE -116 33 45.000 *
PRODUCTION_DATE 1998 03 24 *
RASTER_ORDER LEFT_RIGHT/TOP_BOTTOM *
BAND_ORGANIZATION BIP *
BAND_CONTENT RED *
BAND_CONTENT GREEN *
BAND_CONTENT BLUE *
BITS_PER_PIXEL 8 *
SAMPLES_AND_LINES 6510 7590 *
HORIZONTAL_DATUM NAD83 *
HORIZONTAL_COORDINATE_SYSTEM UTM *
COORDINATE_ZONE 11 *
HORIZONTAL_UNITS METERS *
HORIZONTAL_RESOLUTION 1.000 *
SECONDARY_HORIZONTAL_DATUM NAD27 *
XY_ORIGIN 534300.000 3748710.000 *
SECONDARY_XY_ORIGIN 534379.227 3748514.415 *
NATION US *
STATE CA *
NW_QUAD_CORNER_XY 534681.174 3748359.626 *
NE_QUAD_CORNER_XY 540461.410 3748382.471 *
SE_QUAD_CORNER_XY 540490.880 3741452.693 *
SW_QUAD_CORNER_XY 534706.434 3741429.870 *
SECONDARY_NW_QUAD_XY 534681.953 3748165.580 *
SECONDARY_NE_QUAD_XY 540462.318 3748188.425 *
SECONDARY_SE_QUAD_XY 540491.788 3741258.851 *
SECONDARY_SW_QUAD_XY 534707.212 3741236.026 *
RMSE_XY 4.216 *
IMAGE_SOURCE "CIR FILM" *
SOURCE_IMAGE_ID "NAPP 9553 160" *
SOURCE_IMAGE_DATE 1996 06 04 *
SOURCE_IMAGE_ID "NAPP 9553 159" *
SOURCE_IMAGE_DATE 1996 06 04 *
SOURCE_IMAGE_ID "NAPP 9553 75" *
SOURCE_IMAGE_DATE 1996 06 04 *
SOURCE_DEM_DATE 1997 01 01 *
AGENCY "WESTERN MAPPING CENTER (WMC)" *
PRODUCER "ANALYTICAL SURVEYS INC." *
PRODUCTION_SYSTEM "ORBIT OR_RECTIFY V.5.2" *
STANDARD_VERSION 1996 12 *
METADATA_DATE 1998 03 25 *
DATA_FILE_SIZE 148252230 *
BYTE_COUNT 19530 * * * * * * * * * * * * * * * * * * * * * * * * * * * * * * * * * * * * * * * * * * * * * * * * * * * * * * * * * * * * * * * * * * * * * * * * * * * * * * * * * * * * * * * * * * * * * * * * * * * * * * * * * * * * * * * * * * * * * * * * * * * * * * * * * * * * * * * * * * * * * * * * * * * * * * * * * * * * * * * * * * * * * * * * * * * * * * * * * * * * * * * * * * * * * * * * * * * *
END_USGS_HEADER *
