BEGIN_USGS_DOQ_HEADER *
QUADRANGLE_NAME "LAKE FULMOR" *
QUADRANT NE *
NORTH_LATITUDE 33 52 30.000 *
WEST_LONGITUDE -116 48 45.000 *
SOUTH_LATITUDE 33 48 45.000 *
EAST_LONGITUDE -116 45 00.000 *
PRODUCTION_DATE 1998 03 17 *
RASTER_ORDER LEFT_RIGHT/TOP_BOTTOM *
BAND_ORGANIZATION BIP *
BAND_CONTENT RED *
BAND_CONTENT GREEN *
BAND_CONTENT BLUE *
BITS_PER_PIXEL 8 *
SAMPLES_AND_LINES 6480 7590 *
HORIZONTAL_DATUM NAD83 *
HORIZONTAL_COORDINATE_SYSTEM UTM *
COORDINATE_ZONE 11 *
HORIZONTAL_UNITS METERS *
HORIZONTAL_RESOLUTION 1.000 *
SECONDARY_HORIZONTAL_DATUM NAD27 *
XY_ORIGIN 516960.000 3748650.000 *
SECONDARY_XY_ORIGIN 517039.221 3748454.239 *
NATION US *
STATE CA *
NW_QUAD_CORNER_XY 517340.552 3748312.181 *
NE_QUAD_CORNER_XY 523120.748 3748324.482 *
SE_QUAD_CORNER_XY 523137.588 3741394.757 *
SW_QUAD_CORNER_XY 517353.182 3741382.467 *
SECONDARY_NW_QUAD_XY 517340.941 3748118.134 *
SECONDARY_NE_QUAD_XY 523121.267 3748130.435 *
SECONDARY_SE_QUAD_XY 523138.106 3741200.913 *
SECONDARY_SW_QUAD_XY 517353.570 3741188.623 *
RMSE_XY 2.185 *
IMAGE_SOURCE "CIR FILM" *
SOURCE_IMAGE_ID "NAPP 9554 59" *
SOURCE_IMAGE_DATE 1996 06 04 *
SOURCE_IMAGE_ID "NAPP 9568 98" *
SOURCE_IMAGE_DATE 1996 06 21 *
SOURCE_DEM_DATE 1997 01 01 *
AGENCY "WESTERN MAPPING CENTER (WMC)" *
PRODUCER "ANALYTICAL SURVEYS INC." *
PRODUCTION_SYSTEM "ORBIT OR_RECTIFY V.5.2" *
STANDARD_VERSION 1996 12 *
METADATA_DATE 1998 03 17 *
DATA_FILE_SIZE 147569040 *
BYTE_COUNT 19440 * * * * * * * * * * * * * * * * * * * * * * * * * * * * * * * * * * * * * * * * * * * * * * * * * * * * * * * * * * * * * * * * * * * * * * * * * * * * * * * * * * * * * * * * * * * * * * * * * * * * * * * * * * * * * * * * * * * * * * * * * * * * * * * * * * * * * * * * * * * * * * * * * * * * * * * * * * * * * * * * * * * * * * * * * * * * * * * * * * * * * * * * * * * * * * * * * * * *
END_USGS_HEADER *
