BEGIN_USGS_DOQ_HEADER *
QUADRANGLE_NAME "SAN JACINTO" *
QUADRANT SE *
NORTH_LATITUDE 33 48 45.000 *
WEST_LONGITUDE -116 56 15.000 *
SOUTH_LATITUDE 33 45 00.000 *
EAST_LONGITUDE -116 52 30.000 *
PRODUCTION_DATE 1998 03 16 *
RASTER_ORDER LEFT_RIGHT/TOP_BOTTOM *
BAND_ORGANIZATION BIP *
BAND_CONTENT RED *
BAND_CONTENT GREEN *
BAND_CONTENT BLUE *
BITS_PER_PIXEL 8 *
SAMPLES_AND_LINES 6510 7560 *
HORIZONTAL_DATUM NAD83 *
HORIZONTAL_COORDINATE_SYSTEM UTM *
COORDINATE_ZONE 11 *
HORIZONTAL_UNITS METERS *
HORIZONTAL_RESOLUTION 1.000 *
SECONDARY_HORIZONTAL_DATUM NAD27 *
XY_ORIGIN 505380.000 3741690.000 *
SECONDARY_XY_ORIGIN 505459.419 3741494.123 *
NATION US *
STATE CA *
NW_QUAD_CORNER_XY 505784.390 3741368.422 *
NE_QUAD_CORNER_XY 511568.783 3741373.689 *
SE_QUAD_CORNER_XY 511577.189 3734444.053 *
SW_QUAD_CORNER_XY 505788.593 3734438.791 *
SECONDARY_NW_QUAD_XY 505784.520 3741174.577 *
SECONDARY_NE_QUAD_XY 511569.043 3741179.844 *
SECONDARY_SE_QUAD_XY 511577.448 3734250.412 *
SECONDARY_SW_QUAD_XY 505788.723 3734245.150 *
RMSE_XY 2.797 *
IMAGE_SOURCE "CIR FILM" *
SOURCE_IMAGE_ID "NAPP 9554 180" *
SOURCE_IMAGE_DATE 1996 06 04 *
SOURCE_DEM_DATE 1997 01 01 *
AGENCY "WESTERN MAPPING CENTER (WMC)" *
PRODUCER "ANALYTICAL SURVEYS INC." *
PRODUCTION_SYSTEM "ORBIT OR_RECTIFY V.5.2" *
STANDARD_VERSION 1996 12 *
METADATA_DATE 1998 03 16 *
DATA_FILE_SIZE 147666330 *
BYTE_COUNT 19530 * * * * * * * * * * * * * * * * * * * * * * * * * * * * * * * * * * * * * * * * * * * * * * * * * * * * * * * * * * * * * * * * * * * * * * * * * * * * * * * * * * * * * * * * * * * * * * * * * * * * * * * * * * * * * * * * * * * * * * * * * * * * * * * * * * * * * * * * * * * * * * * * * * * * * * * * * * * * * * * * * * * * * * * * * * * * * * * * * * * * * * * * * * * * * * * * * * * * * * * *
END_USGS_HEADER *
