BEGIN_USGS_DOQ_HEADER *
QUADRANGLE_NAME "MALAPAI HILL" *
QUADRANT SE *
NORTH_LATITUDE 33 56 15.000 *
WEST_LONGITUDE -116 03 45.000 *
SOUTH_LATITUDE 33 52 30.000 *
EAST_LONGITUDE -116 00 00.000 *
PRODUCTION_DATE 1998 03 28 *
RASTER_ORDER LEFT_RIGHT/TOP_BOTTOM *
BAND_ORGANIZATION BIP *
BAND_CONTENT RED *
BAND_CONTENT GREEN *
BAND_CONTENT BLUE *
BITS_PER_PIXEL 8 *
SAMPLES_AND_LINES 6540 7620 *
HORIZONTAL_DATUM NAD83 *
HORIZONTAL_COORDINATE_SYSTEM UTM *
COORDINATE_ZONE 11 *
HORIZONTAL_UNITS METERS *
HORIZONTAL_RESOLUTION 1.000 *
SECONDARY_HORIZONTAL_DATUM NAD27 *
XY_ORIGIN 586260.000 3756000.000 *
SECONDARY_XY_ORIGIN 586339.118 3755805.476 *
NATION US *
STATE CA *
NW_QUAD_CORNER_XY 586640.916 3755621.889 *
NE_QUAD_CORNER_XY 592417.193 3755676.419 *
SE_QUAD_CORNER_XY 592484.673 3748746.247 *
SW_QUAD_CORNER_XY 586704.177 3748691.765 *
SECONDARY_NW_QUAD_XY 586642.864 3755427.648 *
SECONDARY_NE_QUAD_XY 592419.271 3755482.180 *
SECONDARY_SE_QUAD_XY 592486.748 3748552.210 *
SECONDARY_SW_QUAD_XY 586706.123 3748497.727 *
RMSE_XY 2.101 *
IMAGE_SOURCE "CIR FILM" *
SOURCE_IMAGE_ID "NAPP 9568 49" *
SOURCE_IMAGE_DATE 1996 06 21 *
SOURCE_DEM_DATE 1988 01 01 *
AGENCY "WESTERN MAPPING CENTER (WMC)" *
PRODUCER "ANALYTICAL SURVEYS INC." *
PRODUCTION_SYSTEM "ORBIT OR_RECTIFY V.5.2" *
STANDARD_VERSION 1996 12 *
METADATA_DATE 1998 03 28 *
DATA_FILE_SIZE 149524020 *
BYTE_COUNT 19620 * * * * * * * * * * * * * * * * * * * * * * * * * * * * * * * * * * * * * * * * * * * * * * * * * * * * * * * * * * * * * * * * * * * * * * * * * * * * * * * * * * * * * * * * * * * * * * * * * * * * * * * * * * * * * * * * * * * * * * * * * * * * * * * * * * * * * * * * * * * * * * * * * * * * * * * * * * * * * * * * * * * * * * * * * * * * * * * * * * * * * * * * * * * * * * * * * * * * * * * * *
END_USGS_HEADER *
