BEGIN_USGS_DOQ_HEADER *
QUADRANGLE_NAME "KEYS VIEW" *
QUADRANT SE *
NORTH_LATITUDE 33 56 15.000 *
WEST_LONGITUDE -116 11 15.000 *
SOUTH_LATITUDE 33 52 30.000 *
EAST_LONGITUDE -116 07 30.000 *
PRODUCTION_DATE 1998 03 24 *
RASTER_ORDER LEFT_RIGHT/TOP_BOTTOM *
BAND_ORGANIZATION BIP *
BAND_CONTENT RED *
BAND_CONTENT GREEN *
BAND_CONTENT BLUE *
BITS_PER_PIXEL 8 *
SAMPLES_AND_LINES 6540 7590 *
HORIZONTAL_DATUM NAD83 *
HORIZONTAL_COORDINATE_SYSTEM UTM *
COORDINATE_ZONE 11 *
HORIZONTAL_UNITS METERS *
HORIZONTAL_RESOLUTION 1.000 *
SECONDARY_HORIZONTAL_DATUM NAD27 *
XY_ORIGIN 574710.000 3755880.000 *
SECONDARY_XY_ORIGIN 574789.228 3755685.148 *
NATION US *
STATE CA *
NW_QUAD_CORNER_XY 575088.477 3755523.385 *
NE_QUAD_CORNER_XY 580864.678 3755570.878 *
SE_QUAD_CORNER_XY 580923.721 3748640.800 *
SW_QUAD_CORNER_XY 575143.301 3748593.350 *
SECONDARY_NW_QUAD_XY 575090.165 3755329.143 *
SECONDARY_NE_QUAD_XY 580866.497 3755376.636 *
SECONDARY_SE_QUAD_XY 580925.537 3748446.760 *
SECONDARY_SW_QUAD_XY 575144.988 3748399.309 *
RMSE_XY 2.120 *
IMAGE_SOURCE "CIR FILM" *
SOURCE_IMAGE_ID "NAPP 9568 87" *
SOURCE_IMAGE_DATE 1996 06 21 *
SOURCE_DEM_DATE 1988 01 01 *
AGENCY "WESTERN MAPPING CENTER (WMC)" *
PRODUCER "ANALYTICAL SURVEYS INC." *
PRODUCTION_SYSTEM "ORBIT OR_RECTIFY V.5.2" *
STANDARD_VERSION 1996 12 *
METADATA_DATE 1998 03 25 *
DATA_FILE_SIZE 148935420 *
BYTE_COUNT 19620 * * * * * * * * * * * * * * * * * * * * * * * * * * * * * * * * * * * * * * * * * * * * * * * * * * * * * * * * * * * * * * * * * * * * * * * * * * * * * * * * * * * * * * * * * * * * * * * * * * * * * * * * * * * * * * * * * * * * * * * * * * * * * * * * * * * * * * * * * * * * * * * * * * * * * * * * * * * * * * * * * * * * * * * * * * * * * * * * * * * * * * * * * * * * * * * * * * * * * * * * *
END_USGS_HEADER *
