BEGIN_USGS_DOQ_HEADER *
QUADRANGLE_NAME "SEVEN PALMS VALLEY" *
QUADRANT SW *
NORTH_LATITUDE 33 56 15.000 *
WEST_LONGITUDE -116 30 00.000 *
SOUTH_LATITUDE 33 52 30.000 *
EAST_LONGITUDE -116 26 15.000 *
PRODUCTION_DATE 1998 03 20 *
RASTER_ORDER LEFT_RIGHT/TOP_BOTTOM *
BAND_ORGANIZATION BIP *
BAND_CONTENT RED *
BAND_CONTENT GREEN *
BAND_CONTENT BLUE *
BITS_PER_PIXEL 8 *
SAMPLES_AND_LINES 6510 7590 *
HORIZONTAL_DATUM NAD83 *
HORIZONTAL_COORDINATE_SYSTEM UTM *
COORDINATE_ZONE 11 *
HORIZONTAL_UNITS METERS *
HORIZONTAL_RESOLUTION 1.000 *
SECONDARY_HORIZONTAL_DATUM NAD27 *
XY_ORIGIN 545820.000 3755670.000 *
SECONDARY_XY_ORIGIN 545899.177 3755474.596 *
NATION US *
STATE CA *
NW_QUAD_CORNER_XY 546207.928 3755338.701 *
NE_QUAD_CORNER_XY 551983.986 3755368.601 *
SE_QUAD_CORNER_XY 552021.939 3748438.704 *
SW_QUAD_CORNER_XY 546241.664 3748408.830 *
SECONDARY_NW_QUAD_XY 546208.967 3755144.454 *
SECONDARY_NE_QUAD_XY 551985.155 3755174.355 *
SECONDARY_SE_QUAD_XY 552023.107 3748244.659 *
SECONDARY_SW_QUAD_XY 546242.702 3748214.785 *
RMSE_XY 1.875 *
IMAGE_SOURCE "CIR FILM" *
SOURCE_IMAGE_ID "NAPP 9553 54" *
SOURCE_IMAGE_DATE 1996 06 04 *
SOURCE_DEM_DATE 1978 01 01 *
AGENCY "WESTERN MAPPING CENTER (WMC)" *
PRODUCER "ANALYTICAL SURVEYS INC." *
PRODUCTION_SYSTEM "ORBIT OR_RECTIFY V.5.2" *
STANDARD_VERSION 1996 12 *
METADATA_DATE 1998 03 21 *
DATA_FILE_SIZE 148252230 *
BYTE_COUNT 19530 * * * * * * * * * * * * * * * * * * * * * * * * * * * * * * * * * * * * * * * * * * * * * * * * * * * * * * * * * * * * * * * * * * * * * * * * * * * * * * * * * * * * * * * * * * * * * * * * * * * * * * * * * * * * * * * * * * * * * * * * * * * * * * * * * * * * * * * * * * * * * * * * * * * * * * * * * * * * * * * * * * * * * * * * * * * * * * * * * * * * * * * * * * * * * * * * * * * * * * * *
END_USGS_HEADER *
