BEGIN_USGS_DOQ_HEADER *
QUADRANGLE_NAME "CABAZON" *
QUADRANT NE *
NORTH_LATITUDE 34 00 00.000 *
WEST_LONGITUDE -116 48 45.000 *
SOUTH_LATITUDE 33 56 15.000 *
EAST_LONGITUDE -116 45 00.000 *
PRODUCTION_DATE 1998 03 19 *
RASTER_ORDER LEFT_RIGHT/TOP_BOTTOM *
BAND_ORGANIZATION BIP *
BAND_CONTENT RED *
BAND_CONTENT GREEN *
BAND_CONTENT BLUE *
BITS_PER_PIXEL 8 *
SAMPLES_AND_LINES 6480 7590 *
HORIZONTAL_DATUM NAD83 *
HORIZONTAL_COORDINATE_SYSTEM UTM *
COORDINATE_ZONE 11 *
HORIZONTAL_UNITS METERS *
HORIZONTAL_RESOLUTION 1.000 *
SECONDARY_HORIZONTAL_DATUM NAD27 *
XY_ORIGIN 516930.000 3762510.000 *
SECONDARY_XY_ORIGIN 517008.996 3762314.224 *
NATION US *
STATE CA *
NW_QUAD_CORNER_XY 517315.230 3762171.821 *
NE_QUAD_CORNER_XY 523086.986 3762184.143 *
SE_QUAD_CORNER_XY 523103.881 3755254.277 *
SW_QUAD_CORNER_XY 517327.901 3755241.966 *
SECONDARY_NW_QUAD_XY 517315.620 3761977.370 *
SECONDARY_NE_QUAD_XY 523087.506 3761989.693 *
SECONDARY_SE_QUAD_XY 523104.400 3755060.028 *
SECONDARY_SW_QUAD_XY 517328.291 3755047.717 *
RMSE_XY 3.183 *
IMAGE_SOURCE "CIR FILM" *
SOURCE_IMAGE_ID "NAPP 9554 55" *
SOURCE_IMAGE_DATE 1996 06 04 *
SOURCE_DEM_DATE 1997 01 01 *
AGENCY "WESTERN MAPPING CENTER (WMC)" *
PRODUCER "ANALYTICAL SURVEYS INC." *
PRODUCTION_SYSTEM "ORBIT OR_RECTIFY V.5.2" *
STANDARD_VERSION 1996 12 *
METADATA_DATE 1998 03 19 *
DATA_FILE_SIZE 147569040 *
BYTE_COUNT 19440 * * * * * * * * * * * * * * * * * * * * * * * * * * * * * * * * * * * * * * * * * * * * * * * * * * * * * * * * * * * * * * * * * * * * * * * * * * * * * * * * * * * * * * * * * * * * * * * * * * * * * * * * * * * * * * * * * * * * * * * * * * * * * * * * * * * * * * * * * * * * * * * * * * * * * * * * * * * * * * * * * * * * * * * * * * * * * * * * * * * * * * * * * * * * * * * * * * * * * *
END_USGS_HEADER *
