BEGIN_USGS_DOQ_HEADER *
QUADRANGLE_NAME "ESCONDIDO" 3.45 or 7.5-min. name*
QUADRANT NE quadrant indicator if cell size = 3.75-minutes*
WEST_LONGITUDE -117 3 45.000 signed deg min sec SDDD MM SS.SSS*
EAST_LONGITUDE -117 0 0.000 signed deg min sec SDDD MM SS.SSS*
NORTH_LATITUDE 33 7 30.000 signed deg min sec SDDD MM SS.SSS*
SOUTH_LATITUDE 33 3 45.000 signed deg min sec SDDD MM SS.SSS*
PRODUCTION_DATE 1998 9 16 yyyy mm dd*
RASTER_ORDER LEFT_RIGHT/TOP_BOTTOM video display order*
BAND_ORGANIZATION BIP single file or BSQ, or BIL or BIP*
BAND_CONTENT RED black&white or red green blue*
BAND_CONTENT GREEN black&white or red green blue*
BAND_CONTENT BLUE black&white or red green blue*
BITS_PER_PIXEL 8 radiometric resolution*
SAMPLES_AND_LINES 6516 7538 number of columns and rows*
HORIZONTAL_DATUM NAD83 primary horizontal datum*
HORIZONTAL_COORDINATE_SYSTEM UTM *
COORDINATE_ZONE 11 coordinate system zone number*
HORIZONTAL_UNITS METERS coordinate system units*
HORIZONTAL_RESOLUTION 1.00 pixel horiz. ground sample distance*
SECONDARY_HORIZONTAL_DATUM NAD27 secondary horizontal datum*
XY_ORIGIN 493784.000 3665452.000 coord. of upper left pixel pri. datum*
SECONDARY_XY_ORIGIN 493864.536 3665255.956 coord upper left pixel sec datum*
NATION US nation code*
STATE CA state fip code*
NW_QUAD_CORNER_XY 494169.757 3665146.332 XY coords. of pri. NW quad corner*
NE_QUAD_CORNER_XY 500000.000 3665144.595 XY coords. of pri. NE quad corner*
SE_QUAD_CORNER_XY 500000.000 3658215.735 XY coords. of pri. SE quad corner*
SW_QUAD_CORNER_XY 494165.630 3658217.471 XY coords. of pri. SW quad corner*
SECONDARY_NW_QUAD_XY 494169.628 3664954.770 XY coords. - sec. NW quad cor.*
SECONDARY_NE_QUAD_XY 500000.000 3664953.033 XY coords. - sec. NE quad cor.*
SECONDARY_SE_QUAD_XY 500000.000 3658024.384 XY coords. - sec. SE quad cor.*
SECONDARY_SW_QUAD_XY 494165.502 3658026.121 XY coords. - sec. SW quad cor.*
RMSE_XY 1.10 doq horiz. accuracy*
IMAGE_SOURCE "COLOR INFRA-RED FILM" b&w, cir, natural color, other*
SOURCE_IMAGE_ID "NAPP 0188 064" source image id*
SOURCE_IMAGE_DATE 1996 9 30 source image date as yyyy mm dd*
SOURCE_DEM_DATE 1967 0 0 source dem date yyyy mm dd*
AGENCY "WESTERN MAPPING CENTER (WMC)" oversight agency*
PRODUCER "ROCKY MOUNTAIN MAPPING CENTER (RMMC)" *
PRODUCTION_SYSTEM "DV2.6.3 10/9OV2.4 5/95" production system*
STANDARD_VERSION 1996 12 version of DOQ standard*
METADATA_DATE 1998 9 17 date created or changed, yyyy mm dd*
DATA_FILE_SIZE 147372372 data set size in bytes*
BYTE_COUNT 19548 header byte count* * * * * * * * * * * * * * * * * * * * * * * * * * * * * * * * * * * * * * * * * * * * * * * * * * * * * * * * * * * * * * * * * * * * * * * * * * * * * * * * * * * * * * * * * * * * * * * * * * * * * * * * * * * * * * * * * * * * * * * * * * * * * * * * * * * * * * * * * * * * * * * * * * * * * * * * * * * * * * * * * * * * * * * * * * * * * * * * * * * * * * * * * * * * * * * * * * * * * * * *
END_USGS_HEADER *
