BEGIN_USGS_DOQ_HEADER *
QUADRANGLE_NAME "VALLEY CENTER" *
QUADRANT NW *
NORTH_LATITUDE 33 15 00.000 *
WEST_LONGITUDE -117 07 30.000 *
SOUTH_LATITUDE 33 11 15.000 *
EAST_LONGITUDE -117 03 45.000 *
PRODUCTION_DATE 1998 03 12 *
RASTER_ORDER LEFT_RIGHT/TOP_BOTTOM *
BAND_ORGANIZATION BIP *
BAND_CONTENT RED *
BAND_CONTENT GREEN *
BAND_CONTENT BLUE *
BITS_PER_PIXEL 8 *
SAMPLES_AND_LINES 6540 7560 *
HORIZONTAL_DATUM NAD83 *
HORIZONTAL_COORDINATE_SYSTEM UTM *
COORDINATE_ZONE 11 *
HORIZONTAL_UNITS METERS *
HORIZONTAL_RESOLUTION 1.000 *
SECONDARY_HORIZONTAL_DATUM NAD27 *
XY_ORIGIN 487950.000 3679320.000 *
SECONDARY_XY_ORIGIN 488030.359 3679124.002 *
NATION US *
STATE CA *
NW_QUAD_CORNER_XY 488356.060 3679009.488 *
NE_QUAD_CORNER_XY 494178.031 3679004.265 *
SE_QUAD_CORNER_XY 494173.891 3672075.264 *
SW_QUAD_CORNER_XY 488347.778 3672080.482 *
SECONDARY_NW_QUAD_XY 488355.803 3678817.504 *
SECONDARY_NE_QUAD_XY 494177.903 3678812.281 *
SECONDARY_SE_QUAD_XY 494173.762 3671883.491 *
SECONDARY_SW_QUAD_XY 488347.522 3671888.709 *
RMSE_XY 1.916 *
IMAGE_SOURCE "CIR FILM" *
SOURCE_IMAGE_ID "NAPP 10188 100" *
SOURCE_IMAGE_DATE 1996 09 30 *
SOURCE_IMAGE_ID "NAPP 10187 34" *
SOURCE_IMAGE_DATE 1996 09 30 *
SOURCE_DEM_DATE 1997 01 01 *
AGENCY "WESTERN MAPPING CENTER (WMC)" *
PRODUCER "ANALYTICAL SURVEYS INC." *
PRODUCTION_SYSTEM "ORBIT OR_RECTIFY V.5.2" *
STANDARD_VERSION 1996 12 *
METADATA_DATE 1998 03 16 *
DATA_FILE_SIZE 148346820 *
BYTE_COUNT 19620 * * * * * * * * * * * * * * * * * * * * * * * * * * * * * * * * * * * * * * * * * * * * * * * * * * * * * * * * * * * * * * * * * * * * * * * * * * * * * * * * * * * * * * * * * * * * * * * * * * * * * * * * * * * * * * * * * * * * * * * * * * * * * * * * * * * * * * * * * * * * * * * * * * * * * * * * * * * * * * * * * * * * * * * * * * * * * * * * * * * * * * * * * * * * * * * * * * * * * * *
END_USGS_HEADER *
