BEGIN_USGS_DOQ_HEADER *
QUADRANGLE_NAME "MARGARITA PEAK" 3.45 or 7.5-min. name*
QUADRANT SW quadrant indicator if cell size = 3.75-minutes*
WEST_LONGITUDE -117 30 0.000 signed deg min sec SDDD MM SS.SSS*
EAST_LONGITUDE -117 26 15.000 signed deg min sec SDDD MM SS.SSS*
NORTH_LATITUDE 33 26 15.000 signed deg min sec SDDD MM SS.SSS*
SOUTH_LATITUDE 33 22 30.000 signed deg min sec SDDD MM SS.SSS*
PRODUCTION_DATE 1998 9 21 yyyy mm dd*
RASTER_ORDER LEFT_RIGHT/TOP_BOTTOM video display order*
BAND_ORGANIZATION BIP single file or BSQ, or BIL or BIP*
BAND_CONTENT RED black&white or red green blue*
BAND_CONTENT GREEN black&white or red green blue*
BAND_CONTENT BLUE black&white or red green blue*
BITS_PER_PIXEL 8 radiometric resolution*
SAMPLES_AND_LINES 6524 7562 number of columns and rows*
HORIZONTAL_DATUM NAD83 primary horizontal datum*
HORIZONTAL_COORDINATE_SYSTEM UTM *
COORDINATE_ZONE 11 coordinate system zone number*
HORIZONTAL_UNITS METERS coordinate system units*
HORIZONTAL_RESOLUTION 1.00 pixel horiz. ground sample distance*
SECONDARY_HORIZONTAL_DATUM NAD27 secondary horizontal datum*
XY_ORIGIN 453108.000 3700206.000 coord. of upper left pixel pri. datum*
SECONDARY_XY_ORIGIN 453188.480 3700009.938 coord upper left pixel sec datum*
NATION US nation code*
STATE CA state fip code*
NW_QUAD_CORNER_XY 453523.731 3699901.686 XY coords. of pri. NW quad corner*
NE_QUAD_CORNER_XY 459333.313 3699875.496 XY coords. of pri. NE quad corner*
SE_QUAD_CORNER_XY 459304.181 3692946.207 XY coords. of pri. SE quad corner*
SW_QUAD_CORNER_XY 453490.438 3692972.373 XY coords. of pri. SW quad corner*
SECONDARY_NW_QUAD_XY 453522.700 3699709.078 XY coords. - sec. NW quad cor.*
SECONDARY_NE_QUAD_XY 459332.411 3699682.886 XY coords. - sec. NE quad cor.*
SECONDARY_SE_QUAD_XY 459303.280 3692753.806 XY coords. - sec. SE quad cor.*
SECONDARY_SW_QUAD_XY 453489.408 3692779.972 XY coords. - sec. SW quad cor.*
RMSE_XY 1.50 doq horiz. accuracy*
IMAGE_SOURCE "COLOR INFRA-RED FILM" b&w, cir, natural color, other*
SOURCE_IMAGE_ID "NAPP 0327 115" source image id*
SOURCE_IMAGE_DATE 1997 10 16 source image date as yyyy mm dd*
SOURCE_DEM_DATE 1967 0 0 source dem date yyyy mm dd*
AGENCY "WESTERN MAPPING CENTER (WMC)" oversight agency*
PRODUCER "ROCKY MOUNTAIN MAPPING CENTER (RMMC)" *
PRODUCTION_SYSTEM "DV2.6.3 10/9OV2.4 5/95" production system*
STANDARD_VERSION 1996 12 version of DOQ standard*
METADATA_DATE 1998 9 22 date created or changed, yyyy mm dd*
DATA_FILE_SIZE 148023036 data set size in bytes*
BYTE_COUNT 19572 header byte count* * * * * * * * * * * * * * * * * * * * * * * * * * * * * * * * * * * * * * * * * * * * * * * * * * * * * * * * * * * * * * * * * * * * * * * * * * * * * * * * * * * * * * * * * * * * * * * * * * * * * * * * * * * * * * * * * * * * * * * * * * * * * * * * * * * * * * * * * * * * * * * * * * * * * * * * * * * * * * * * * * * * * * * * * * * * * * * * * * * * * * * * * * * * * * * * * * * * * * * *
END_USGS_HEADER *
