BEGIN_USGS_DOQ_HEADER *
QUADRANGLE_NAME "SAN CLEMENTE" 3.45 or 7.5-min. name*
QUADRANT SE quadrant indicator if cell size = 3.75-minutes*
WEST_LONGITUDE -117 33 45.000 signed deg min sec SDDD MM SS.SSS*
EAST_LONGITUDE -117 30 0.000 signed deg min sec SDDD MM SS.SSS*
NORTH_LATITUDE 33 26 15.000 signed deg min sec SDDD MM SS.SSS*
SOUTH_LATITUDE 33 22 30.000 signed deg min sec SDDD MM SS.SSS*
PRODUCTION_DATE 1998 9 23 yyyy mm dd*
RASTER_ORDER LEFT_RIGHT/TOP_BOTTOM video display order*
BAND_ORGANIZATION BIP single file or BSQ, or BIL or BIP*
BAND_CONTENT RED black&white or red green blue*
BAND_CONTENT GREEN black&white or red green blue*
BAND_CONTENT BLUE black&white or red green blue*
BITS_PER_PIXEL 8 radiometric resolution*
SAMPLES_AND_LINES 6532 7566 number of columns and rows*
HORIZONTAL_DATUM NAD83 primary horizontal datum*
HORIZONTAL_COORDINATE_SYSTEM UTM *
COORDINATE_ZONE 11 coordinate system zone number*
HORIZONTAL_UNITS METERS coordinate system units*
HORIZONTAL_RESOLUTION 1.00 pixel horiz. ground sample distance*
SECONDARY_HORIZONTAL_DATUM NAD27 secondary horizontal datum*
XY_ORIGIN 447294.000 3700236.000 coord. of upper left pixel pri. datum*
SECONDARY_XY_ORIGIN 447374.586 3700039.853 coord upper left pixel sec datum*
NATION US nation code*
STATE CA state fip code*
NW_QUAD_CORNER_XY 447714.128 3699931.370 XY coords. of pri. NW quad corner*
NE_QUAD_CORNER_XY 453523.731 3699901.686 XY coords. of pri. NE quad corner*
SE_QUAD_CORNER_XY 453490.438 3692972.373 XY coords. of pri. SE quad corner*
SW_QUAD_CORNER_XY 447676.672 3693002.028 XY coords. of pri. SW quad corner*
SECONDARY_NW_QUAD_XY 447712.968 3699738.761 XY coords. - sec. NW quad cor.*
SECONDARY_NE_QUAD_XY 453522.700 3699709.078 XY coords. - sec. NE quad cor.*
SECONDARY_SE_QUAD_XY 453489.408 3692779.972 XY coords. - sec. SE quad cor.*
SECONDARY_SW_QUAD_XY 447675.513 3692809.628 XY coords. - sec. SW quad cor.*
RMSE_XY 1.30 doq horiz. accuracy*
IMAGE_SOURCE "COLOR INFRA-RED FILM" b&w, cir, natural color, other*
SOURCE_IMAGE_ID "NAPP 0327 132" source image id*
SOURCE_IMAGE_DATE 1997 10 16 source image date as yyyy mm dd*
SOURCE_DEM_DATE 1967 0 0 source dem date yyyy mm dd*
AGENCY "WESTERN MAPPING CENTER (WMC)" oversight agency*
PRODUCER "ROCKY MOUNTAIN MAPPING CENTER (RMMC)" *
PRODUCTION_SYSTEM "DV2.6.3 10/9OV2.4 5/95" production system*
STANDARD_VERSION 1996 12 version of DOQ standard*
METADATA_DATE 1998 9 24 date created or changed, yyyy mm dd*
DATA_FILE_SIZE 148282932 data set size in bytes*
BYTE_COUNT 19596 header byte count* * * * * * * * * * * * * * * * * * * * * * * * * * * * * * * * * * * * * * * * * * * * * * * * * * * * * * * * * * * * * * * * * * * * * * * * * * * * * * * * * * * * * * * * * * * * * * * * * * * * * * * * * * * * * * * * * * * * * * * * * * * * * * * * * * * * * * * * * * * * * * * * * * * * * * * * * * * * * * * * * * * * * * * * * * * * * * * * * * * * * * * * * * * * * * * * * * * * * * * *
END_USGS_HEADER *
