BEGIN_USGS_DOQ_HEADER *
QUADRANGLE_NAME "MURRIETA" *
QUADRANT NE *
NORTH_LATITUDE 33 37 30.000 *
WEST_LONGITUDE -117 11 15.000 *
SOUTH_LATITUDE 33 33 45.000 *
EAST_LONGITUDE -117 07 30.000 *
PRODUCTION_DATE 1998 03 10 *
RASTER_ORDER LEFT_RIGHT/TOP_BOTTOM *
BAND_ORGANIZATION BIP *
BAND_CONTENT RED *
BAND_CONTENT GREEN *
BAND_CONTENT BLUE *
BITS_PER_PIXEL 8 *
SAMPLES_AND_LINES 6540 7560 *
HORIZONTAL_DATUM NAD83 *
HORIZONTAL_COORDINATE_SYSTEM UTM *
COORDINATE_ZONE 11 *
HORIZONTAL_UNITS METERS *
HORIZONTAL_RESOLUTION 1.000 *
SECONDARY_HORIZONTAL_DATUM NAD27 *
XY_ORIGIN 482190.000 3720900.000 *
SECONDARY_XY_ORIGIN 482270.015 3720704.010 *
NATION US *
STATE CA *
NW_QUAD_CORNER_XY 482609.053 3720593.746 *
NE_QUAD_CORNER_XY 488406.040 3720584.992 *
SE_QUAD_CORNER_XY 488397.675 3713655.566 *
SW_QUAD_CORNER_XY 482596.506 3713664.312 *
SECONDARY_NW_QUAD_XY 482608.666 3720400.515 *
SECONDARY_NE_QUAD_XY 488405.781 3720391.760 *
SECONDARY_SE_QUAD_XY 488397.417 3713462.541 *
SECONDARY_SW_QUAD_XY 482596.119 3713471.287 *
RMSE_XY 2.873 *
IMAGE_SOURCE "CIR FILM" *
SOURCE_IMAGE_ID "NAPP 10187 22" *
SOURCE_IMAGE_DATE 1996 09 30 *
SOURCE_DEM_DATE 1997 01 01 *
AGENCY "WESTERN MAPPING CENTER (WMC)" *
PRODUCER "ANALYTICAL SURVEYS INC." *
PRODUCTION_SYSTEM "ORBIT OR_RECTIFY V.5.2" *
STANDARD_VERSION 1996 12 *
METADATA_DATE 1998 03 11 *
DATA_FILE_SIZE 148346820 *
BYTE_COUNT 19620 * * * * * * * * * * * * * * * * * * * * * * * * * * * * * * * * * * * * * * * * * * * * * * * * * * * * * * * * * * * * * * * * * * * * * * * * * * * * * * * * * * * * * * * * * * * * * * * * * * * * * * * * * * * * * * * * * * * * * * * * * * * * * * * * * * * * * * * * * * * * * * * * * * * * * * * * * * * * * * * * * * * * * * * * * * * * * * * * * * * * * * * * * * * * * * * * * * * * * * * * *
END_USGS_HEADER *
