BEGIN_USGS_DOQ_HEADER *
QUADRANGLE_NAME "WINCHESTER" *
QUADRANT SE *
NORTH_LATITUDE 33 41 15.000 *
WEST_LONGITUDE -117 03 45.000 *
SOUTH_LATITUDE 33 37 30.000 *
EAST_LONGITUDE -117 00 00.000 *
PRODUCTION_DATE 1998 03 12 *
RASTER_ORDER LEFT_RIGHT/TOP_BOTTOM *
BAND_ORGANIZATION BIP *
BAND_CONTENT RED *
BAND_CONTENT GREEN *
BAND_CONTENT BLUE *
BITS_PER_PIXEL 8 *
SAMPLES_AND_LINES 6510 7560 *
HORIZONTAL_DATUM NAD83 *
HORIZONTAL_COORDINATE_SYSTEM UTM *
COORDINATE_ZONE 11 *
HORIZONTAL_UNITS METERS *
HORIZONTAL_RESOLUTION 1.000 *
SECONDARY_HORIZONTAL_DATUM NAD27 *
XY_ORIGIN 493800.000 3727830.000 *
SECONDARY_XY_ORIGIN 493879.689 3727634.046 *
NATION US *
STATE CA *
NW_QUAD_CORNER_XY 494207.211 3727509.230 *
NE_QUAD_CORNER_XY 500000.000 3727507.477 *
SE_QUAD_CORNER_XY 500000.000 3720577.988 *
SW_QUAD_CORNER_XY 494203.021 3720579.739 *
SECONDARY_NW_QUAD_XY 494207.081 3727315.793 *
SECONDARY_NE_QUAD_XY 500000.000 3727314.041 *
SECONDARY_SE_QUAD_XY 500000.000 3720384.757 *
SECONDARY_SW_QUAD_XY 494202.892 3720386.508 *
RMSE_XY 3.874 *
IMAGE_SOURCE "CIR FILM" *
SOURCE_IMAGE_ID "NAPP 10188 46" *
SOURCE_IMAGE_DATE 1996 09 30 *
SOURCE_IMAGE_ID "NAPP 10188 114" *
SOURCE_IMAGE_DATE 1996 09 30 *
SOURCE_IMAGE_ID "NAPP 10188 48" *
SOURCE_IMAGE_DATE 1996 09 30 *
SOURCE_DEM_DATE 1997 01 01 *
AGENCY "WESTERN MAPPING CENTER (WMC)" *
PRODUCER "ANALYTICAL SURVEYS INC." *
PRODUCTION_SYSTEM "ORBIT OR_RECTIFY V.5.2" *
STANDARD_VERSION 1996 12 *
METADATA_DATE 1998 03 16 *
DATA_FILE_SIZE 147666330 *
BYTE_COUNT 19530 * * * * * * * * * * * * * * * * * * * * * * * * * * * * * * * * * * * * * * * * * * * * * * * * * * * * * * * * * * * * * * * * * * * * * * * * * * * * * * * * * * * * * * * * * * * * * * * * * * * * * * * * * * * * * * * * * * * * * * * * * * * * * * * * * * * * * * * * * * * * * * * * * * * * * * * * * * * * * * * * * * * * * * * * * * * * * * * * * * * * * * * * * * * * * * * * * * * *
END_USGS_HEADER *
