BEGIN_USGS_DOQ_HEADER *
QUADRANGLE_NAME "SANTIAGO PEAK" 3.45 or 7.5-min. name*
QUADRANT SW quadrant indicator if cell size = 3.75-minutes*
WEST_LONGITUDE -117 37 30.000 signed deg min sec SDDD MM SS.SSS*
EAST_LONGITUDE -117 33 45.000 signed deg min sec SDDD MM SS.SSS*
NORTH_LATITUDE 33 41 15.000 signed deg min sec SDDD MM SS.SSS*
SOUTH_LATITUDE 33 37 30.000 signed deg min sec SDDD MM SS.SSS*
PRODUCTION_DATE 2003 8 18 yyyy mm dd*
RASTER_ORDER LEFT_RIGHT/TOP_BOTTOM video display order*
BAND_ORGANIZATION BIP single file or BSQ, or BIL or BIP*
BAND_CONTENT RED black&white or red green blue*
BAND_CONTENT GREEN black&white or red green blue*
BAND_CONTENT BLUE black&white or red green blue*
BITS_PER_PIXEL 8 radiometric resolution*
SAMPLES_AND_LINES 6521 7569 number of columns and rows*
HORIZONTAL_DATUM NAD83 primary horizontal datum*
HORIZONTAL_COORDINATE_SYSTEM UTM *
COORDINATE_ZONE 11 coordinate system zone number*
HORIZONTAL_UNITS METERS coordinate system units*
HORIZONTAL_RESOLUTION 1.00 pixel horiz. ground sample distance*
SECONDARY_HORIZONTAL_DATUM NAD27 secondary horizontal datum*
XY_ORIGIN 441647.000 3727986.000 coord. of upper left pixel pri. datum*
SECONDARY_XY_ORIGIN 441727.492 3727789.822 coord upper left pixel sec datum*
NATION US nation code*
STATE CA state fip code*
NW_QUAD_CORNER_XY 442071.664 3727682.727 XY coords. of pri. NW quad corner*
NE_QUAD_CORNER_XY 447864.574 3727649.429 XY coords. of pri. NE quad corner*
SE_QUAD_CORNER_XY 447826.869 3720719.810 XY coords. of pri. SE quad corner*
SW_QUAD_CORNER_XY 442029.769 3720753.078 XY coords. of pri. SW quad corner*
SECONDARY_NW_QUAD_XY 442070.371 3727489.295 XY coords. - sec. NW quad cor.*
SECONDARY_NE_QUAD_XY 447863.410 3727455.996 XY coords. - sec. NE quad cor.*
SECONDARY_SE_QUAD_XY 447825.706 3720526.582 XY coords. - sec. SE quad cor.*
SECONDARY_SW_QUAD_XY 442028.477 3720559.850 XY coords. - sec. SW quad cor.*
RMSE_XY 4.10 doq horiz. accuracy*
IMAGE_SOURCE "COLOR INFRA-RED FILM" b&w, cir, natural color, other*
SOURCE_IMAGE_ID "NAPP 12504 085" source image id*
SOURCE_IMAGE_DATE 2002 6 6 source image date as yyyy mm dd*
SOURCE_IMAGE_ID "NAPP 12502 182" source image id*
SOURCE_IMAGE_DATE 2002 6 5 source image date as yyyy mm dd*
SOURCE_DEM_DATE 1994 0 0 source dem date yyyy mm dd*
AGENCY "WESTERN MAPPING CENTER (WMC)" agency or agency & contractor*
PRODUCER "WESTERN MAPPING CENTER (WMC)" producer*
PRODUCTION_SYSTEM "DV2.6.5 3/02 OV2.7 3/02" production system*
STANDARD_VERSION 1996 12 version of DOQ standard*
METADATA_DATE 2003 8 27 date created or changed, yyyy mm dd*
DATA_FILE_SIZE 148091910 data set size in bytes*
BYTE_COUNT 19563 header byte count* * * * * * * * * * * * * * * * * * * * * * * * * * * * * * * * * * * * * * * * * * * * * * * * * * * * * * * * * * * * * * * * * * * * * * * * * * * * * * * * * * * * * * * * * * * * * * * * * * * * * * * * * * * * * * * * * * * * * * * * * * * * * * * * * * * * * * * * * * * * * * * * * * * * * * * * * * * * * * * * * * * * * * * * * * * * * * * * * * * * * * * * * * * * * * * * * * * * * *
END_USGS_HEADER *
