BEGIN_USGS_DOQ_HEADER *
QUADRANGLE_NAME "LAKEVIEW" *
QUADRANT SW *
NORTH_LATITUDE 33 48 45.000 *
WEST_LONGITUDE -117 07 30.000 *
SOUTH_LATITUDE 33 45 00.000 *
EAST_LONGITUDE -117 03 45.000 *
PRODUCTION_DATE 1998 03 12 *
RASTER_ORDER LEFT_RIGHT/TOP_BOTTOM *
BAND_ORGANIZATION BIP *
BAND_CONTENT RED *
BAND_CONTENT GREEN *
BAND_CONTENT BLUE *
BITS_PER_PIXEL 8 *
SAMPLES_AND_LINES 6480 7560 *
HORIZONTAL_DATUM NAD83 *
HORIZONTAL_COORDINATE_SYSTEM UTM *
COORDINATE_ZONE 11 *
HORIZONTAL_UNITS METERS *
HORIZONTAL_RESOLUTION 1.000 *
SECONDARY_HORIZONTAL_DATUM NAD27 *
XY_ORIGIN 488040.000 3741690.000 *
SECONDARY_XY_ORIGIN 488119.814 3741493.958 *
NATION US *
STATE CA *
NW_QUAD_CORNER_XY 488431.217 3741373.689 *
NE_QUAD_CORNER_XY 494215.610 3741368.422 *
SE_QUAD_CORNER_XY 494211.407 3734438.791 *
SW_QUAD_CORNER_XY 488422.811 3734444.053 *
SECONDARY_NW_QUAD_XY 488430.957 3741179.844 *
SECONDARY_NE_QUAD_XY 494215.480 3741174.577 *
SECONDARY_SE_QUAD_XY 494211.277 3734245.150 *
SECONDARY_SW_QUAD_XY 488422.552 3734250.412 *
RMSE_XY 1.403 *
IMAGE_SOURCE "CIR FILM" *
SOURCE_IMAGE_ID "NAPP 10188 118" *
SOURCE_IMAGE_DATE 1996 09 30 *
SOURCE_IMAGE_ID "NAPP 10188 42" *
SOURCE_IMAGE_DATE 1996 09 30 *
SOURCE_DEM_DATE 1997 01 01 *
AGENCY "WESTERN MAPPING CENTER (WMC)" *
PRODUCER "ANALYTICAL SURVEYS INC." *
PRODUCTION_SYSTEM "ORBIT OR_RECTIFY V.5.2" *
STANDARD_VERSION 1996 12 *
METADATA_DATE 1998 03 12 *
DATA_FILE_SIZE 146985840 *
BYTE_COUNT 19440 * * * * * * * * * * * * * * * * * * * * * * * * * * * * * * * * * * * * * * * * * * * * * * * * * * * * * * * * * * * * * * * * * * * * * * * * * * * * * * * * * * * * * * * * * * * * * * * * * * * * * * * * * * * * * * * * * * * * * * * * * * * * * * * * * * * * * * * * * * * * * * * * * * * * * * * * * * * * * * * * * * * * * * * * * * * * * * * * * * * * * * * * * * * * * * * * * * * *
END_USGS_HEADER *
