BEGIN_USGS_DOQ_HEADER *
QUADRANGLE_NAME "PERRIS" *
QUADRANT NW *
NORTH_LATITUDE 33 52 30.000 *
WEST_LONGITUDE -117 15 00.000 *
SOUTH_LATITUDE 33 48 45.000 *
EAST_LONGITUDE -117 11 15.000 *
PRODUCTION_DATE 1998 11 18 *
RASTER_ORDER LEFT_RIGHT/TOP_BOTTOM *
BAND_ORGANIZATION BIP *
BAND_CONTENT RED *
BAND_CONTENT GREEN *
BAND_CONTENT BLUE *
BITS_PER_PIXEL 8 *
SAMPLES_AND_LINES 6510 7590 *
HORIZONTAL_DATUM NAD83 *
HORIZONTAL_COORDINATE_SYSTEM UTM *
COORDINATE_ZONE 11 *
HORIZONTAL_UNITS METERS *
HORIZONTAL_RESOLUTION 1.000 *
SECONDARY_HORIZONTAL_DATUM NAD27 *
XY_ORIGIN 476460.000 3748650.000 *
SECONDARY_XY_ORIGIN 476540.170 3748453.756 *
NATION US *
STATE CA *
NW_QUAD_CORNER_XY 476879.252 3748324.482 *
NE_QUAD_CORNER_XY 482659.448 3748312.181 *
SE_QUAD_CORNER_XY 482646.818 3741382.467 *
SW_QUAD_CORNER_XY 476862.412 3741394.757 *
SECONDARY_NW_QUAD_XY 476878.733 3748130.435 *
SECONDARY_NE_QUAD_XY 482659.059 3748118.134 *
SECONDARY_SE_QUAD_XY 482646.430 3741188.623 *
SECONDARY_SW_QUAD_XY 476861.894 3741200.913 *
RMSE_XY 0.857 *
IMAGE_SOURCE "CIR FILM" *
SOURCE_IMAGE_ID "NAPP 10327 14" *
SOURCE_IMAGE_DATE 1997 10 16 *
SOURCE_DEM_DATE 1951 00 00 *
AGENCY "WESTERN MAPPING CENTER (WMC)" *
PRODUCER "ANALYTICAL SURVEYS INC." *
PRODUCTION_SYSTEM "ORBIT OR_RECTIFY V.5.2" *
STANDARD_VERSION 1996 12 *
METADATA_DATE 1998 11 24 *
DATA_FILE_SIZE 148252230 *
BYTE_COUNT 19530 * * * * * * * * * * * * * * * * * * * * * * * * * * * * * * * * * * * * * * * * * * * * * * * * * * * * * * * * * * * * * * * * * * * * * * * * * * * * * * * * * * * * * * * * * * * * * * * * * * * * * * * * * * * * * * * * * * * * * * * * * * * * * * * * * * * * * * * * * * * * * * * * * * * * * * * * * * * * * * * * * * * * * * * * * * * * * * * * * * * * * * * * * * * * * * * * * * * * * * * *
END_USGS_HEADER *
