BEGIN_USGS_DOQ_HEADER *
QUADRANGLE_NAME "EL CASCO" *
QUADRANT SW *
NORTH_LATITUDE 33 56 15.000 *
WEST_LONGITUDE -117 07 30.000 *
SOUTH_LATITUDE 33 52 30.000 *
EAST_LONGITUDE -117 03 45.000 *
PRODUCTION_DATE 1998 03 12 *
RASTER_ORDER LEFT_RIGHT/TOP_BOTTOM *
BAND_ORGANIZATION BIP *
BAND_CONTENT RED *
BAND_CONTENT GREEN *
BAND_CONTENT BLUE *
BITS_PER_PIXEL 8 *
SAMPLES_AND_LINES 6510 7560 *
HORIZONTAL_DATUM NAD83 *
HORIZONTAL_COORDINATE_SYSTEM UTM *
COORDINATE_ZONE 11 *
HORIZONTAL_UNITS METERS *
HORIZONTAL_RESOLUTION 1.000 *
SECONDARY_HORIZONTAL_DATUM NAD27 *
XY_ORIGIN 488040.000 3755550.000 *
SECONDARY_XY_ORIGIN 488119.851 3755353.805 *
NATION US *
STATE CA *
NW_QUAD_CORNER_XY 488448.070 3755233.172 *
NE_QUAD_CORNER_XY 494224.036 3755227.895 *
SE_QUAD_CORNER_XY 494219.820 3748298.124 *
SW_QUAD_CORNER_XY 488439.637 3748303.395 *
SECONDARY_NW_QUAD_XY 488447.810 3755038.922 *
SECONDARY_NE_QUAD_XY 494223.907 3755033.646 *
SECONDARY_SE_QUAD_XY 494219.690 3748104.076 *
SECONDARY_SW_QUAD_XY 488439.377 3748109.348 *
RMSE_XY 2.700 *
IMAGE_SOURCE "CIR FILM" *
SOURCE_IMAGE_ID "NAPP 10188 122" *
SOURCE_IMAGE_DATE 1996 09 30 *
SOURCE_IMAGE_ID "NAPP 10188 124" *
SOURCE_IMAGE_DATE 1996 09 30 *
SOURCE_DEM_DATE 1997 01 01 *
AGENCY "WESTERN MAPPING CENTER (WMC)" *
PRODUCER "ANALYTICAL SURVEYS INC." *
PRODUCTION_SYSTEM "ORBIT OR_RECTIFY V.5.2" *
STANDARD_VERSION 1996 12 *
METADATA_DATE 1998 03 12 *
DATA_FILE_SIZE 147666330 *
BYTE_COUNT 19530 * * * * * * * * * * * * * * * * * * * * * * * * * * * * * * * * * * * * * * * * * * * * * * * * * * * * * * * * * * * * * * * * * * * * * * * * * * * * * * * * * * * * * * * * * * * * * * * * * * * * * * * * * * * * * * * * * * * * * * * * * * * * * * * * * * * * * * * * * * * * * * * * * * * * * * * * * * * * * * * * * * * * * * * * * * * * * * * * * * * * * * * * * * * * * * * * * * * * * *
END_USGS_HEADER *
