BEGIN_USGS_DOQ_HEADER *
QUADRANGLE_NAME "SUNNYMEAD" *
QUADRANT NW *
NORTH_LATITUDE 34 00 00.000 *
WEST_LONGITUDE -117 15 00.000 *
SOUTH_LATITUDE 33 56 15.000 *
EAST_LONGITUDE -117 11 15.000 *
PRODUCTION_DATE 1998 11 19 *
RASTER_ORDER LEFT_RIGHT/TOP_BOTTOM *
BAND_ORGANIZATION BIP *
BAND_CONTENT RED *
BAND_CONTENT GREEN *
BAND_CONTENT BLUE *
BITS_PER_PIXEL 8 *
SAMPLES_AND_LINES 6510 7590 *
HORIZONTAL_DATUM NAD83 *
HORIZONTAL_COORDINATE_SYSTEM UTM *
COORDINATE_ZONE 11 *
HORIZONTAL_UNITS METERS *
HORIZONTAL_RESOLUTION 1.000 *
SECONDARY_HORIZONTAL_DATUM NAD27 *
XY_ORIGIN 476490.000 3762510.000 *
SECONDARY_XY_ORIGIN 476570.214 3762313.560 *
NATION US *
STATE CA *
NW_QUAD_CORNER_XY 476913.014 3762184.143 *
NE_QUAD_CORNER_XY 482684.770 3762171.821 *
SE_QUAD_CORNER_XY 482672.099 3755241.966 *
SW_QUAD_CORNER_XY 476896.119 3755254.277 *
SECONDARY_NW_QUAD_XY 476912.494 3761989.693 *
SECONDARY_NE_QUAD_XY 482684.380 3761977.370 *
SECONDARY_SE_QUAD_XY 482671.709 3755047.717 *
SECONDARY_SW_QUAD_XY 476895.600 3755060.028 *
RMSE_XY 2.490 *
IMAGE_SOURCE "CIR FILM" *
SOURCE_IMAGE_ID "NAPP 10327 18" *
SOURCE_IMAGE_DATE 1997 10 16 *
SOURCE_DEM_DATE 1951 00 00 *
AGENCY "WESTERN MAPPING CENTER (WMC)" *
PRODUCER "ANALYTICAL SURVEYS INC." *
PRODUCTION_SYSTEM "ORBIT OR_RECTIFY V.5.2" *
STANDARD_VERSION 1996 12 *
METADATA_DATE 1998 11 23 *
DATA_FILE_SIZE 148252230 *
BYTE_COUNT 19530 * * * * * * * * * * * * * * * * * * * * * * * * * * * * * * * * * * * * * * * * * * * * * * * * * * * * * * * * * * * * * * * * * * * * * * * * * * * * * * * * * * * * * * * * * * * * * * * * * * * * * * * * * * * * * * * * * * * * * * * * * * * * * * * * * * * * * * * * * * * * * * * * * * * * * * * * * * * * * * * * * * * * * * * * * * * * * * * * * * * * * * * * * * * * * * * * * * * * * * * *
END_USGS_HEADER *
