BEGIN_USGS_DOQ_HEADER *
QUADRANGLE_NAME "SUNNYMEAD" *
QUADRANT SE *
NORTH_LATITUDE 33 56 15.000 *
WEST_LONGITUDE -117 11 15.000 *
SOUTH_LATITUDE 33 52 30.000 *
EAST_LONGITUDE -117 07 30.000 *
PRODUCTION_DATE 1998 11 18 *
RASTER_ORDER LEFT_RIGHT/TOP_BOTTOM *
BAND_ORGANIZATION BIP *
BAND_CONTENT RED *
BAND_CONTENT GREEN *
BAND_CONTENT BLUE *
BITS_PER_PIXEL 8 *
SAMPLES_AND_LINES 6510 7560 *
HORIZONTAL_DATUM NAD83 *
HORIZONTAL_COORDINATE_SYSTEM UTM *
COORDINATE_ZONE 11 *
HORIZONTAL_UNITS METERS *
HORIZONTAL_RESOLUTION 1.000 *
SECONDARY_HORIZONTAL_DATUM NAD27 *
XY_ORIGIN 482250.000 3755550.000 *
SECONDARY_XY_ORIGIN 482330.022 3755353.732 *
NATION US *
STATE CA *
NW_QUAD_CORNER_XY 482672.099 3755241.966 *
NE_QUAD_CORNER_XY 488448.070 3755233.172 *
SE_QUAD_CORNER_XY 488439.637 3748303.395 *
SW_QUAD_CORNER_XY 482659.448 3748312.181 *
SECONDARY_NW_QUAD_XY 482671.709 3755047.717 *
SECONDARY_NE_QUAD_XY 488447.810 3755038.922 *
SECONDARY_SE_QUAD_XY 488439.377 3748109.348 *
SECONDARY_SW_QUAD_XY 482659.059 3748118.134 *
RMSE_XY 1.260 *
IMAGE_SOURCE "CIR FILM" *
SOURCE_IMAGE_ID "NAPP 10187 12" *
SOURCE_IMAGE_DATE 1996 09 30 *
SOURCE_DEM_DATE 1951 00 00 *
AGENCY "WESTERN MAPPING CENTER (WMC)" *
PRODUCER "ANALYTICAL SURVEYS INC." *
PRODUCTION_SYSTEM "ORBIT OR_RECTIFY V.5.2" *
STANDARD_VERSION 1996 12 *
METADATA_DATE 1998 11 23 *
DATA_FILE_SIZE 147666330 *
BYTE_COUNT 19530 * * * * * * * * * * * * * * * * * * * * * * * * * * * * * * * * * * * * * * * * * * * * * * * * * * * * * * * * * * * * * * * * * * * * * * * * * * * * * * * * * * * * * * * * * * * * * * * * * * * * * * * * * * * * * * * * * * * * * * * * * * * * * * * * * * * * * * * * * * * * * * * * * * * * * * * * * * * * * * * * * * * * * * * * * * * * * * * * * * * * * * * * * * * * * * * * * * * * * * * *
END_USGS_HEADER *
