BEGIN_USGS_DOQ_HEADER *
QUADRANGLE_NAME "DANA POINT" *
QUADRANT NW *
NORTH_LATITUDE 33 30 00.000 *
WEST_LONGITUDE -117 45 00.000 *
SOUTH_LATITUDE 33 26 15.000 *
EAST_LONGITUDE -117 41 15.000 *
PRODUCTION_DATE 1998 09 16 *
RASTER_ORDER LEFT_RIGHT/TOP_BOTTOM *
BAND_ORGANIZATION "SINGLE FILE" *
BAND_CONTENT BLACK&WHITE *
BITS_PER_PIXEL 8 *
SAMPLES_AND_LINES 6570 7590 *
HORIZONTAL_DATUM NAD83 *
HORIZONTAL_COORDINATE_SYSTEM UTM *
COORDINATE_ZONE 11 *
HORIZONTAL_UNITS METERS *
HORIZONTAL_RESOLUTION 1.000 *
SECONDARY_HORIZONTAL_DATUM NAD27 *
XY_ORIGIN 429900.000 3707280.000 *
SECONDARY_XY_ORIGIN 429980.901 3707083.570 *
NATION US *
STATE CA *
NW_QUAD_CORNER_XY 430335.185 3706970.888 *
NE_QUAD_CORNER_XY 436140.701 3706930.689 *
SE_QUAD_CORNER_XY 436094.844 3700001.213 *
SW_QUAD_CORNER_XY 430285.159 3700041.374 *
SECONDARY_NW_QUAD_XY 430333.637 3706778.074 *
SECONDARY_NE_QUAD_XY 436139.282 3706737.875 *
SECONDARY_SE_QUAD_XY 436093.427 3699808.607 *
SECONDARY_SW_QUAD_XY 430283.613 3699848.769 *
RMSE_XY 1.338 *
IMAGE_SOURCE "BLACK AND WHITE FILM" *
SOURCE_IMAGE_ID "NAPP 6866 144" *
SOURCE_IMAGE_DATE 1994 06 01 *
SOURCE_IMAGE_ID "NAPP 6866 142" *
SOURCE_IMAGE_DATE 1994 06 01 *
SOURCE_IMAGE_ID "NAPP 6866 85" *
SOURCE_IMAGE_DATE 1994 06 01 *
SOURCE_DEM_DATE 1975 01 01 *
AGENCY "WESTERN MAPPING CENTER (WMC)" *
PRODUCER "ANALYTICAL SURVEYS INC." *
PRODUCTION_SYSTEM "ORBIT OR_RECTIFY V.5.2" *
STANDARD_VERSION 1996 12 *
METADATA_DATE 1998 09 21 *
DATA_FILE_SIZE 49872870 *
BYTE_COUNT 6570 * * * * * * * * * * * * * * * * * * * * * * * * * * * * * * * * * * * *
END_USGS_HEADER *
