BEGIN_USGS_DOQ_HEADER *
QUADRANGLE_NAME "DANA POINT" *
QUADRANT SE *
NORTH_LATITUDE 33 26 15.000 *
WEST_LONGITUDE -117 41 15.000 *
SOUTH_LATITUDE 33 22 30.000 *
EAST_LONGITUDE -117 37 30.000 *
PRODUCTION_DATE 1998 09 16 *
RASTER_ORDER LEFT_RIGHT/TOP_BOTTOM *
BAND_ORGANIZATION "SINGLE FILE" *
BAND_CONTENT BLACK&WHITE *
BITS_PER_PIXEL 8 *
SAMPLES_AND_LINES 6570 7590 *
HORIZONTAL_DATUM NAD83 *
HORIZONTAL_COORDINATE_SYSTEM UTM *
COORDINATE_ZONE 11 *
HORIZONTAL_UNITS METERS *
HORIZONTAL_RESOLUTION 1.000 *
SECONDARY_HORIZONTAL_DATUM NAD27 *
XY_ORIGIN 435660.000 3700320.000 *
SECONDARY_XY_ORIGIN 435740.800 3700123.688 *
NATION US *
STATE CA *
NW_QUAD_CORNER_XY 436094.844 3700001.213 *
NE_QUAD_CORNER_XY 441904.500 3699964.545 *
SE_QUAD_CORNER_XY 441862.882 3693035.172 *
SW_QUAD_CORNER_XY 436049.064 3693071.806 *
SECONDARY_NW_QUAD_XY 436093.427 3699808.607 *
SECONDARY_NE_QUAD_XY 441903.211 3699771.938 *
SECONDARY_SE_QUAD_XY 441861.594 3692842.773 *
SECONDARY_SW_QUAD_XY 436047.648 3692879.408 *
RMSE_XY 1.439 *
IMAGE_SOURCE "BLACK AND WHITE FILM" *
SOURCE_IMAGE_ID "NAPP 6866 83" *
SOURCE_IMAGE_DATE 1994 06 01 *
SOURCE_DEM_DATE 1975 01 01 *
AGENCY "WESTERN MAPPING CENTER (WMC)" *
PRODUCER "ANALYTICAL SURVEYS INC." *
PRODUCTION_SYSTEM "ORBIT OR_RECTIFY V.5.2" *
STANDARD_VERSION 1996 12 *
METADATA_DATE 1998 09 21 *
DATA_FILE_SIZE 49872870 *
BYTE_COUNT 6570 * * * * * * * * * * * * * * * * * * * * * * * * * * * * * * * * * * * * * * * *
END_USGS_HEADER *
