BEGIN_USGS_DOQ_HEADER *
QUADRANGLE_NAME "NEWPORT BEACH OE S" *
QUADRANT NE *
NORTH_LATITUDE 33 37 30.000 *
WEST_LONGITUDE -117 56 15.000 *
SOUTH_LATITUDE 33 33 45.000 *
EAST_LONGITUDE -117 52 30.000 *
PRODUCTION_DATE 1998 09 04 *
RASTER_ORDER LEFT_RIGHT/TOP_BOTTOM *
BAND_ORGANIZATION "SINGLE FILE" *
BAND_CONTENT BLACK&WHITE *
BITS_PER_PIXEL 8 *
SAMPLES_AND_LINES 6570 7620 *
HORIZONTAL_DATUM NAD83 *
HORIZONTAL_COORDINATE_SYSTEM UTM *
COORDINATE_ZONE 11 *
HORIZONTAL_UNITS METERS *
HORIZONTAL_RESOLUTION 1.000 *
SECONDARY_HORIZONTAL_DATUM NAD27 *
XY_ORIGIN 412590.000 3721290.000 *
SECONDARY_XY_ORIGIN 412670.734 3721093.718 *
NATION US *
STATE CA *
NW_QUAD_CORNER_XY 413043.814 3720971.956 *
NE_QUAD_CORNER_XY 418841.075 3720921.174 *
SE_QUAD_CORNER_XY 418782.515 3713991.439 *
SW_QUAD_CORNER_XY 412981.070 3714042.174 *
SECONDARY_NW_QUAD_XY 413041.875 3720778.733 *
SECONDARY_NE_QUAD_XY 418839.265 3720727.951 *
SECONDARY_SE_QUAD_XY 418780.708 3713798.422 *
SECONDARY_SW_QUAD_XY 412979.133 3713849.157 *
RMSE_XY 0.826 *
IMAGE_SOURCE "BLACK AND WHITE FILM" *
SOURCE_IMAGE_ID "NAPP 6875 62" *
SOURCE_IMAGE_DATE 1995 10 03 *
SOURCE_DEM_DATE 1981 01 01 *
AGENCY "WESTERN MAPPING CENTER (WMC)" *
PRODUCER "ANALYTICAL SURVEYS INC." *
PRODUCTION_SYSTEM "ORBIT OR_RECTIFY V.5.2" *
STANDARD_VERSION 1996 12 *
METADATA_DATE 1998 09 10 *
DATA_FILE_SIZE 50069970 *
BYTE_COUNT 6570 * * * * * * * * * * * * * * * * * * * * * * * * * * * * * * * * * * * * * * * *
END_USGS_HEADER *
