BEGIN_USGS_DOQ_HEADER *
QUADRANGLE_NAME "LAKE ELSINORE" 3.45 or 7.5-min. name*
QUADRANT SE quadrant indicator if cell size = 3.75-minutes*
WEST_LONGITUDE -117 18 45.000 signed deg min sec SDDD MM SS.SSS*
EAST_LONGITUDE -117 15 0.000 signed deg min sec SDDD MM SS.SSS*
NORTH_LATITUDE 33 41 15.000 signed deg min sec SDDD MM SS.SSS*
SOUTH_LATITUDE 33 37 30.000 signed deg min sec SDDD MM SS.SSS*
PRODUCTION_DATE 1996 11 26 yyyy mm dd*
RASTER_ORDER LEFT_RIGHT/TOP_BOTTOM video display order*
BAND_ORGANIZATION "SINGLE FILE" single file or BSQ, or BIL or BIP*
BAND_CONTENT BLACK&WHITE black&white or red green blue*
BITS_PER_PIXEL 8 radiometric resolution*
SAMPLES_AND_LINES 6540 7560 number of columns and rows*
HORIZONTAL_DATUM NAD83 primary horizontal datum*
HORIZONTAL_COORDINATE_SYSTEM UTM *
COORDINATE_ZONE 11 coordinate system zone number*
HORIZONTAL_UNITS METERS coordinate system units*
HORIZONTAL_RESOLUTION 1.00 pixel horiz. ground sample distance*
SECONDARY_HORIZONTAL_DATUM NAD27 secondary horizontal datum*
XY_ORIGIN 470610.000 3727860.000 coord. of upper left pixel pri. datum*
SECONDARY_XY_ORIGIN 470690.199 3727663.969 coord upper left pixel sec datum*
NATION US nation code*
STATE CA state fip code*
NW_QUAD_CORNER_XY 471035.999 3727551.289 XY coords. of pri. NW quad corner*
NE_QUAD_CORNER_XY 476828.815 3727535.517 XY coords. of pri. NE quad corner*
SE_QUAD_CORNER_XY 476812.058 3720606.002 XY coords. of pri. SE quad corner*
SW_QUAD_CORNER_XY 471015.053 3720621.760 XY coords. of pri. SW quad corner*
SECONDARY_NW_QUAD_XY 471035.352 3727357.853 XY coords. - sec. NW quad cor.*
SECONDARY_NE_QUAD_XY 476828.298 3727342.081 XY coords. - sec. NE quad cor.*
SECONDARY_SE_QUAD_XY 476811.541 3720412.771 XY coords. - sec. SE quad cor.*
SECONDARY_SW_QUAD_XY 471014.407 3720428.529 XY coords. - sec. SW quad cor.*
RMSE_XY 1.70 doq horiz. accuracy*
IMAGE_SOURCE "BLACK AND WHITE FILM" b&w, cir, natural color, other*
SOURCE_IMAGE_ID "NAPP 6865 154" source image id*
SOURCE_IMAGE_DATE 1994 6 1 source image date as yyyy mm dd*
SOURCE_DEM_DATE 1996 11 26 source dem date yyyy mm dd*
AGENCY "WESTERN MAPPING CENTER (WMC)" oversight agency*
PRODUCER "Analytical Surveys" producer/contractor*
PRODUCTION_SYSTEM "ORBIT OR_RECTIFY V.5.2" production system*
STANDARD_VERSION 1996 12 version of DOQ standard*
METADATA_DATE 1997 6 10 date created or changed, yyyy mm dd*
DATA_FILE_SIZE 49448940 data set size in bytes*
BYTE_COUNT 6540 header byte count* * * * * * * * * * * * * * * * * * * * * * * * * * * * * * * * * * * * * * *
END_USGS_HEADER *
