BEGIN_USGS_DOQ_HEADER *
QUADRANGLE_NAME "SANTIAGO PEAK" 3.45 or 7.5-min. name*
QUADRANT NW quadrant indicator if cell size = 3.75-minutes*
WEST_LONGITUDE -117 37 30.000 signed deg min sec SDDD MM SS.SSS*
EAST_LONGITUDE -117 33 45.000 signed deg min sec SDDD MM SS.SSS*
NORTH_LATITUDE 33 45 0.000 signed deg min sec SDDD MM SS.SSS*
SOUTH_LATITUDE 33 41 15.000 signed deg min sec SDDD MM SS.SSS*
PRODUCTION_DATE 1996 11 12 yyyy mm dd*
RASTER_ORDER LEFT_RIGHT/TOP_BOTTOM video display order*
BAND_ORGANIZATION "SINGLE FILE" single file or BSQ, or BIL or BIP*
BAND_CONTENT BLACK&WHITE black&white or red green blue*
BITS_PER_PIXEL 8 radiometric resolution*
SAMPLES_AND_LINES 6570 7620 number of columns and rows*
HORIZONTAL_DATUM NAD83 primary horizontal datum*
HORIZONTAL_COORDINATE_SYSTEM UTM *
COORDINATE_ZONE 11 coordinate system zone number*
HORIZONTAL_UNITS METERS coordinate system units*
HORIZONTAL_RESOLUTION 1.00 pixel horiz. ground sample distance*
SECONDARY_HORIZONTAL_DATUM NAD27 secondary horizontal datum*
XY_ORIGIN 441660.000 3734940.000 coord. of upper left pixel pri. datum*
SECONDARY_XY_ORIGIN 441740.432 3734743.837 coord upper left pixel sec datum*
NATION US nation code*
STATE CA state fip code*
NW_QUAD_CORNER_XY 442113.628 3734612.446 XY coords. of pri. NW quad corner*
NE_QUAD_CORNER_XY 447902.341 3734579.118 XY coords. of pri. NE quad corner*
SE_QUAD_CORNER_XY 447864.574 3727649.429 XY coords. of pri. SE quad corner*
SW_QUAD_CORNER_XY 442071.664 3727682.727 XY coords. of pri. SW quad corner*
SECONDARY_NW_QUAD_XY 442112.333 3734418.809 XY coords. - sec. NW quad cor.*
SECONDARY_NE_QUAD_XY 447901.176 3734385.480 XY coords. - sec. NE quad cor.*
SECONDARY_SE_QUAD_XY 447863.410 3727455.996 XY coords. - sec. SE quad cor.*
SECONDARY_SW_QUAD_XY 442070.371 3727489.295 XY coords. - sec. SW quad cor.*
RMSE_XY 3.10 doq horiz. accuracy*
IMAGE_SOURCE "BLACK AND WHITE FILM" b&w, cir, natural color, other*
SOURCE_IMAGE_ID "NAPP 6866 070" source image id*
SOURCE_IMAGE_DATE 1994 6 1 source image date as yyyy mm dd*
SOURCE_DEM_DATE 1996 11 12 source dem date yyyy mm dd*
AGENCY "WESTERN MAPPING CENTER (WMC)" oversight agency*
PRODUCER "Analytical Surveys" producer/contractor*
PRODUCTION_SYSTEM "ORBIT OR_RECTIFY V.5.2" production system*
STANDARD_VERSION 1996 12 version of DOQ standard*
METADATA_DATE 1997 7 7 date created or changed, yyyy mm dd*
DATA_FILE_SIZE 50069970 data set size in bytes*
BYTE_COUNT 6570 header byte count* * * * * * * * * * * * * * * * * * * * * * * * * * * * * * * * * * * * * * * *
END_USGS_HEADER *
