BEGIN_USGS_DOQ_HEADER *
QUADRANGLE_NAME "EL TORO" 3.45 or 7.5-min. name*
QUADRANT NW quadrant indicator if cell size = 3.75-minutes*
WEST_LONGITUDE -117 45 0.000 signed deg min sec SDDD MM SS.SSS*
EAST_LONGITUDE -117 41 15.000 signed deg min sec SDDD MM SS.SSS*
NORTH_LATITUDE 33 45 0.000 signed deg min sec SDDD MM SS.SSS*
SOUTH_LATITUDE 33 41 15.000 signed deg min sec SDDD MM SS.SSS*
PRODUCTION_DATE 1996 11 12 yyyy mm dd*
RASTER_ORDER LEFT_RIGHT/TOP_BOTTOM video display order*
BAND_ORGANIZATION "SINGLE FILE" single file or BSQ, or BIL or BIP*
BAND_CONTENT BLACK&WHITE black&white or red green blue*
BITS_PER_PIXEL 8 radiometric resolution*
SAMPLES_AND_LINES 6570 7590 number of columns and rows*
HORIZONTAL_DATUM NAD83 primary horizontal datum*
HORIZONTAL_COORDINATE_SYSTEM UTM *
COORDINATE_ZONE 11 coordinate system zone number*
HORIZONTAL_UNITS METERS coordinate system units*
HORIZONTAL_RESOLUTION 1.00 pixel horiz. ground sample distance*
SECONDARY_HORIZONTAL_DATUM NAD27 secondary horizontal datum*
XY_ORIGIN 430080.000 3735000.000 coord. of upper left pixel pri. datum*
SECONDARY_XY_ORIGIN 430160.493 3734803.745 coord upper left pixel sec datum*
NATION US nation code*
STATE CA state fip code*
NW_QUAD_CORNER_XY 430536.120 3734689.630 XY coords. of pri. NW quad corner*
NE_QUAD_CORNER_XY 436324.888 3734649.284 XY coords. of pri. NE quad corner*
SE_QUAD_CORNER_XY 436278.728 3727719.531 XY coords. of pri. SE quad corner*
SW_QUAD_CORNER_XY 430485.762 3727759.841 XY coords. of pri. SW quad corner*
SECONDARY_NW_QUAD_XY 430534.566 3734495.995 XY coords. - sec. NW quad cor.*
SECONDARY_NE_QUAD_XY 436323.464 3734455.647 XY coords. - sec. NE quad cor.*
SECONDARY_SE_QUAD_XY 436277.305 3727526.099 XY coords. - sec. SE quad cor.*
SECONDARY_SW_QUAD_XY 430484.209 3727566.410 XY coords. - sec. SW quad cor.*
RMSE_XY 2.10 doq horiz. accuracy*
IMAGE_SOURCE "BLACK AND WHITE FILM" b&w, cir, natural color, other*
SOURCE_IMAGE_ID "NAPP 6866 136" source image id*
SOURCE_IMAGE_DATE 1994 6 1 source image date as yyyy mm dd*
SOURCE_DEM_DATE 1996 11 12 source dem date yyyy mm dd*
AGENCY "WESTERN MAPPING CENTER (WMC)" oversight agency*
PRODUCER "Analytical Surveys" producer/contractor*
PRODUCTION_SYSTEM "ORBIT OR_RECTIFY V.5.2" production system*
STANDARD_VERSION 1996 12 version of DOQ standard*
METADATA_DATE 1997 6 13 date created or changed, yyyy mm dd*
DATA_FILE_SIZE 49872870 data set size in bytes*
BYTE_COUNT 6570 header byte count* * * * * * * * * * * * * * * * * * * * * * * * * * * * * * * * * * * * * * * *
END_USGS_HEADER *
