BEGIN_USGS_DOQ_HEADER *
QUADRANGLE_NAME "TUSTIN" *
QUADRANT NE *
NORTH_LATITUDE 33 45 00.000 *
WEST_LONGITUDE -117 48 45.000 *
SOUTH_LATITUDE 33 41 15.000 *
EAST_LONGITUDE -117 45 00.000 *
PRODUCTION_DATE 1998 09 04 *
RASTER_ORDER LEFT_RIGHT/TOP_BOTTOM *
BAND_ORGANIZATION "SINGLE FILE" *
BAND_CONTENT BLACK&WHITE *
BITS_PER_PIXEL 8 *
SAMPLES_AND_LINES 6570 7620 *
HORIZONTAL_DATUM NAD83 *
HORIZONTAL_COORDINATE_SYSTEM UTM *
COORDINATE_ZONE 11 *
HORIZONTAL_UNITS METERS *
HORIZONTAL_RESOLUTION 1.000 *
SECONDARY_HORIZONTAL_DATUM NAD27 *
XY_ORIGIN 424290.000 3735060.000 *
SECONDARY_XY_ORIGIN 424370.525 3734863.755 *
NATION US *
STATE CA *
NW_QUAD_CORNER_XY 424747.319 3734733.485 *
NE_QUAD_CORNER_XY 430536.120 3734689.630 *
SE_QUAD_CORNER_XY 430485.762 3727759.841 *
SW_QUAD_CORNER_XY 424692.764 3727803.656 *
SECONDARY_NW_QUAD_XY 424745.636 3734539.851 *
SECONDARY_NE_QUAD_XY 430534.566 3734495.995 *
SECONDARY_SE_QUAD_XY 430484.209 3727566.410 *
SECONDARY_SW_QUAD_XY 424691.082 3727610.226 *
RMSE_XY 1.242 *
IMAGE_SOURCE "BLACK AND WHITE FILM" *
SOURCE_IMAGE_ID "NAPP 6862 8" *
SOURCE_IMAGE_DATE 1994 06 01 *
SOURCE_DEM_DATE 1998 01 01 *
AGENCY "WESTERN MAPPING CENTER (WMC)" *
PRODUCER "ANALYTICAL SURVEYS INC." *
PRODUCTION_SYSTEM "ORBIT OR_RECTIFY V.5.2" *
STANDARD_VERSION 1996 12 *
METADATA_DATE 1998 09 10 *
DATA_FILE_SIZE 50069970 *
BYTE_COUNT 6570 * * * * * * * * * * * * * * * * * * * * * * * * * * * * * * * * * * * * * * * *
END_USGS_HEADER *
